BEGIN:VCALENDAR
VERSION:2.0
PRODID:-//Jugendring Düsseldorf - ECPv6.15.20//NONSGML v1.0//EN
CALSCALE:GREGORIAN
METHOD:PUBLISH
X-WR-CALNAME:Jugendring Düsseldorf
X-ORIGINAL-URL:https://jugendring-duesseldorf.de
X-WR-CALDESC:Veranstaltungen im Jugendring Düsseldorf
REFRESH-INTERVAL;VALUE=DURATION:PT1H
X-Robots-Tag:noindex
X-PUBLISHED-TTL:PT1H
BEGIN:VTIMEZONE
TZID:Europe/Berlin
BEGIN:DAYLIGHT
TZOFFSETFROM:+0100
TZOFFSETTO:+0200
TZNAME:CEST
DTSTART:20250330T010000
END:DAYLIGHT
BEGIN:STANDARD
TZOFFSETFROM:+0200
TZOFFSETTO:+0100
TZNAME:CET
DTSTART:20251026T010000
END:STANDARD
BEGIN:DAYLIGHT
TZOFFSETFROM:+0100
TZOFFSETTO:+0200
TZNAME:CEST
DTSTART:20260329T010000
END:DAYLIGHT
BEGIN:STANDARD
TZOFFSETFROM:+0200
TZOFFSETTO:+0100
TZNAME:CET
DTSTART:20261025T010000
END:STANDARD
BEGIN:DAYLIGHT
TZOFFSETFROM:+0100
TZOFFSETTO:+0200
TZNAME:CEST
DTSTART:20270328T010000
END:DAYLIGHT
BEGIN:STANDARD
TZOFFSETFROM:+0200
TZOFFSETTO:+0100
TZNAME:CET
DTSTART:20271031T010000
END:STANDARD
END:VTIMEZONE
BEGIN:VEVENT
DTSTART;TZID=Europe/Berlin:20260421T183000
DTEND;TZID=Europe/Berlin:20260421T213000
DTSTAMP:20260421T124510
CREATED:20260330T121654Z
LAST-MODIFIED:20260330T130641Z
UID:16399-1776796200-1776807000@jugendring-duesseldorf.de
SUMMARY:Macht euch stark! Prävention aktiv gestalten (Vertiefung)
DESCRIPTION:[vc_row][vc_column][vc_column_text css=““]Die Prävention vor sexualisierter Gewalt bei Kindern\, Jugendlichen und Leiter*innen hat in den meisten Jugendgruppen und Verbänden einen hohen Stellenwert. Doch wie schafft man es\, dieses schwierige Thema in den eigenen Angeboten der Jugendarbeit mit Leben zu füllen? Wie findet man einen passenden Weg\, um die eigenen Teilnehmer*innen und die Gruppe zu stärken? Wie fördert man eine Gruppenkultur\, in der man aufeinander Acht gibt\, die individuellen Grenzen aller respektiert und sich traut\, auch mal über persönliche Themen\, Sorgen und Probleme zu sprechen. \nIn dieser Schulung möchten wir mit euch Ideen und Methoden austauschen und ausprobieren\, die diese Fragestellungen aufgreifen. Wir schauen mit euch genau hin\, ob und wie Prävention & Sexualität in der Jugendarbeit thematisiert werden können und behalten dabei auch die eigenen Grenzen im Blick. \nHinweis: Für Ehrenamtliche der kath. Jugend(verbands)arbeit kann diese Schulung als Vertiefungsschulung im Rahmen der Präventionsordnung vom EBK anerkannt werden. Weitere Präventionsangebote finden sich auf www.leiterrunde.de \nAnmeldung online unter bdkjdus.de/anmeldungen oder per Mail an info(at)bdkjdus.de[/vc_column_text][/vc_column][/vc_row]
URL:https://jugendring-duesseldorf.de/termin/macht-euch-stark-praevention-aktiv-gestalten-vertiefung/
LOCATION:Jugendpastorales Zentrum – die  botschaft\, Schloßufer 3\, Düsseldorf\, 40213\, Deutschland
ATTACH;FMTTYPE=image/png:https://jugendring-duesseldorf.de/wp-content/uploads/2024/07/Kopie-von-Vorlage-1-1.png
ORGANIZER;CN="BDKJ D%C3%BCsseldorf":MAILTO:cornelia.seger@bdkjdus.de
END:VEVENT
END:VCALENDAR