BEGIN:VCALENDAR
VERSION:2.0
PRODID:-//Jugendring Düsseldorf - ECPv6.15.20//NONSGML v1.0//EN
CALSCALE:GREGORIAN
METHOD:PUBLISH
X-WR-CALNAME:Jugendring Düsseldorf
X-ORIGINAL-URL:https://jugendring-duesseldorf.de
X-WR-CALDESC:Veranstaltungen im Jugendring Düsseldorf
REFRESH-INTERVAL;VALUE=DURATION:PT1H
X-Robots-Tag:noindex
X-PUBLISHED-TTL:PT1H
BEGIN:VTIMEZONE
TZID:Europe/Berlin
BEGIN:DAYLIGHT
TZOFFSETFROM:+0100
TZOFFSETTO:+0200
TZNAME:CEST
DTSTART:20240331T010000
END:DAYLIGHT
BEGIN:STANDARD
TZOFFSETFROM:+0200
TZOFFSETTO:+0100
TZNAME:CET
DTSTART:20241027T010000
END:STANDARD
BEGIN:DAYLIGHT
TZOFFSETFROM:+0100
TZOFFSETTO:+0200
TZNAME:CEST
DTSTART:20250330T010000
END:DAYLIGHT
BEGIN:STANDARD
TZOFFSETFROM:+0200
TZOFFSETTO:+0100
TZNAME:CET
DTSTART:20251026T010000
END:STANDARD
BEGIN:DAYLIGHT
TZOFFSETFROM:+0100
TZOFFSETTO:+0200
TZNAME:CEST
DTSTART:20260329T010000
END:DAYLIGHT
BEGIN:STANDARD
TZOFFSETFROM:+0200
TZOFFSETTO:+0100
TZNAME:CET
DTSTART:20261025T010000
END:STANDARD
BEGIN:DAYLIGHT
TZOFFSETFROM:+0100
TZOFFSETTO:+0200
TZNAME:CEST
DTSTART:20270328T010000
END:DAYLIGHT
BEGIN:STANDARD
TZOFFSETFROM:+0200
TZOFFSETTO:+0100
TZNAME:CET
DTSTART:20271031T010000
END:STANDARD
END:VTIMEZONE
BEGIN:VEVENT
DTSTART;TZID=Europe/Berlin:20250326T180000
DTEND;TZID=Europe/Berlin:20250326T213000
DTSTAMP:20260425T175825
CREATED:20250206T102643Z
LAST-MODIFIED:20250312T114729Z
UID:13649-1743012000-1743024600@jugendring-duesseldorf.de
SUMMARY:Jugendring Vollversammlung 01-25 + Delegierten-Café
DESCRIPTION:Wir laden alle Delegierten herzlich zur ersten Vollversammlung des Jahres ein. Alle Infos\, Anträge und TOPs erhaltet ihr wie gewohnt per Mail. \nUnd natürlich laden wir euch auch recht herzlich zu unserem Verbände-/Delegierten-Café im Vorfeld der Vollversammlung am 26.03 in der Zeit von 18 – 19 Uhr im Haus der Jugend auf der Lacombletstraße ein. Dort habt ihr die Möglichkeit mit Delegierten aus anderen Verbänden\, mit dem Vorstand oder den Mitarbeiter*innen aus der Geschäftsstelle ins Gespräch zu kommen. Wir können da aber auch alle Fragen rund um den Jugendring\, um Anträge auf Förderung dort gerne miteinander besprechen. \nAußerdem nutzt die Möglichkeit euch mit anderen Verbänden über die Kandidierenden\, über Anträge oder aber auch den Jahresbericht auszutauschen. \nNatürlich werden euch Getränke und kleine Snacks gereicht.
URL:https://jugendring-duesseldorf.de/termin/jugendring-vollversammlung-01-25/
LOCATION:Haus der Jugend\, Lacombletstr. 10\, Düsseldorf\, NRW\, 40239\, Deutschland
ATTACH;FMTTYPE=image/png:https://jugendring-duesseldorf.de/wp-content/uploads/2024/11/VV.png
ORGANIZER;CN="Jugendring D%C3%BCsseldorf":MAILTO:info@jugendring-duesseldorf.de
END:VEVENT
BEGIN:VEVENT
DTSTART;TZID=Europe/Berlin:20250603T180000
DTEND;TZID=Europe/Berlin:20250603T213000
DTSTAMP:20260425T175825
CREATED:20250206T110613Z
LAST-MODIFIED:20250206T110657Z
UID:13651-1748973600-1748986200@jugendring-duesseldorf.de
SUMMARY:Jugendring Vollversammlung 02-25
DESCRIPTION:Wir laden alle Delegierten herzlich zur zweiten Vollversammlung des Jahres ein. Alle Infos\, Anträge und TOPs erhaltet ihr wie gewohnt per Mail.
URL:https://jugendring-duesseldorf.de/termin/jugendring-vollversammlung-02-25/
LOCATION:Haus Spilles
ATTACH;FMTTYPE=image/jpeg:https://jugendring-duesseldorf.de/wp-content/uploads/2022/12/vollversammlung.jpg
ORGANIZER;CN="Jugendring D%C3%BCsseldorf":MAILTO:info@jugendring-duesseldorf.de
END:VEVENT
BEGIN:VEVENT
DTSTART;TZID=Europe/Berlin:20250916T190000
DTEND;TZID=Europe/Berlin:20250916T220000
DTSTAMP:20260425T175825
CREATED:20250206T122128Z
LAST-MODIFIED:20250703T095512Z
UID:13656-1758049200-1758060000@jugendring-duesseldorf.de
SUMMARY:Jugendring Vollversammlung 03-25
DESCRIPTION:Wir laden alle Delegierten herzlich zur dritten Vollversammlung des Jahres ein. Alle Infos\, Anträge und TOPs erhaltet ihr wie gewohnt per Mail.
URL:https://jugendring-duesseldorf.de/termin/jugendring-vollversammlung-03-25/
LOCATION:Bürgerhaus Benrath\, Telleringstraße 56\, Düsseldorf\, 40597
ATTACH;FMTTYPE=image/jpeg:https://jugendring-duesseldorf.de/wp-content/uploads/2022/12/vollversammlung.jpg
ORGANIZER;CN="Jugendring D%C3%BCsseldorf":MAILTO:info@jugendring-duesseldorf.de
END:VEVENT
BEGIN:VEVENT
DTSTART;TZID=Europe/Berlin:20251210T190000
DTEND;TZID=Europe/Berlin:20251210T220000
DTSTAMP:20260425T175825
CREATED:20250703T095735Z
LAST-MODIFIED:20250703T095735Z
UID:13658-1765393200-1765404000@jugendring-duesseldorf.de
SUMMARY:Jugendring Vollversammlung 04-25
DESCRIPTION:Wir laden alle Delegierten herzlich zur vierten Vollversammlung des Jahres ein. Alle Infos\, Anträge und TOPs erhaltet ihr wie gewohnt per Mail.
URL:https://jugendring-duesseldorf.de/termin/jugendring-vollversammlung-04-25/
LOCATION:Haus der Jugend\, Lacombletstr. 10\, Düsseldorf\, NRW\, 40239\, Deutschland
ATTACH;FMTTYPE=image/jpeg:https://jugendring-duesseldorf.de/wp-content/uploads/2022/12/vollversammlung.jpg
ORGANIZER;CN="Jugendring D%C3%BCsseldorf":MAILTO:info@jugendring-duesseldorf.de
END:VEVENT
BEGIN:VEVENT
DTSTART;TZID=Europe/Berlin:20260326T190000
DTEND;TZID=Europe/Berlin:20260326T220000
DTSTAMP:20260425T175825
CREATED:20260309T073547Z
LAST-MODIFIED:20260309T073547Z
UID:16238-1774551600-1774562400@jugendring-duesseldorf.de
SUMMARY:Vollversammlung 2026-01
DESCRIPTION:Wir laden euch herzlich ein zur ersten Vollversammlung 2026. Alle Infos solltet ihr per Mail erhalten haben.
URL:https://jugendring-duesseldorf.de/termin/vollversammlung-2026-01/
LOCATION:Haus der Jugend\, Lacombletstr. 10\, Düsseldorf\, NRW\, 40239\, Deutschland
ATTACH;FMTTYPE=image/png:https://jugendring-duesseldorf.de/wp-content/uploads/2026/03/vollversammlung.png
ORGANIZER;CN="Jugendring D%C3%BCsseldorf":MAILTO:info@jugendring-duesseldorf.de
END:VEVENT
BEGIN:VEVENT
DTSTART;TZID=Europe/Berlin:20260616T190000
DTEND;TZID=Europe/Berlin:20260616T220000
DTSTAMP:20260425T175825
CREATED:20260309T073913Z
LAST-MODIFIED:20260309T073913Z
UID:16241-1781636400-1781647200@jugendring-duesseldorf.de
SUMMARY:Vollversammlung 2026-02
DESCRIPTION:Wir laden euch herzlich ein zur zweiten Vollversammlung 2026. Alle Infos und Ort folgen per Mail.
URL:https://jugendring-duesseldorf.de/termin/vollversammlung-2026-02/
LOCATION:Düsseldorf
ATTACH;FMTTYPE=image/png:https://jugendring-duesseldorf.de/wp-content/uploads/2026/03/vollversammlung.png
ORGANIZER;CN="Jugendring D%C3%BCsseldorf":MAILTO:info@jugendring-duesseldorf.de
END:VEVENT
BEGIN:VEVENT
DTSTART;TZID=Europe/Berlin:20260924T190000
DTEND;TZID=Europe/Berlin:20260924T220000
DTSTAMP:20260425T175825
CREATED:20260309T074111Z
LAST-MODIFIED:20260309T074111Z
UID:16243-1790276400-1790287200@jugendring-duesseldorf.de
SUMMARY:Vollversammlung 2026-03
DESCRIPTION:Wir laden euch herzlich ein zur dritten Vollversammlung 2026. Alle Infos und Ort folgen per Mail.
URL:https://jugendring-duesseldorf.de/termin/vollversammlung-2026-03/
LOCATION:Düsseldorf
ATTACH;FMTTYPE=image/png:https://jugendring-duesseldorf.de/wp-content/uploads/2026/03/vollversammlung.png
ORGANIZER;CN="Jugendring D%C3%BCsseldorf":MAILTO:info@jugendring-duesseldorf.de
END:VEVENT
BEGIN:VEVENT
DTSTART;TZID=Europe/Berlin:20261208T190000
DTEND;TZID=Europe/Berlin:20261208T220000
DTSTAMP:20260425T175825
CREATED:20260309T074515Z
LAST-MODIFIED:20260309T074515Z
UID:16245-1796756400-1796767200@jugendring-duesseldorf.de
SUMMARY:Vollversammlung 2026-04
DESCRIPTION:Wir laden euch herzlich ein zur dritten Vollversammlung 2026. Alle Infos und Ort folgen per Mail.
URL:https://jugendring-duesseldorf.de/termin/vollversammlung-2026-04/
LOCATION:Düsseldorf
ATTACH;FMTTYPE=image/png:https://jugendring-duesseldorf.de/wp-content/uploads/2026/03/vollversammlung.png
ORGANIZER;CN="Jugendring D%C3%BCsseldorf":MAILTO:info@jugendring-duesseldorf.de
END:VEVENT
END:VCALENDAR