BEGIN:VCALENDAR
VERSION:2.0
PRODID:-//Jugendring Düsseldorf - ECPv6.15.20//NONSGML v1.0//EN
CALSCALE:GREGORIAN
METHOD:PUBLISH
X-ORIGINAL-URL:https://jugendring-duesseldorf.de
X-WR-CALDESC:Veranstaltungen im Jugendring Düsseldorf
REFRESH-INTERVAL;VALUE=DURATION:PT1H
X-Robots-Tag:noindex
X-PUBLISHED-TTL:PT1H
BEGIN:VTIMEZONE
TZID:Europe/Berlin
BEGIN:DAYLIGHT
TZOFFSETFROM:+0100
TZOFFSETTO:+0200
TZNAME:CEST
DTSTART:20200329T010000
END:DAYLIGHT
BEGIN:STANDARD
TZOFFSETFROM:+0200
TZOFFSETTO:+0100
TZNAME:CET
DTSTART:20201025T010000
END:STANDARD
BEGIN:DAYLIGHT
TZOFFSETFROM:+0100
TZOFFSETTO:+0200
TZNAME:CEST
DTSTART:20210328T010000
END:DAYLIGHT
BEGIN:STANDARD
TZOFFSETFROM:+0200
TZOFFSETTO:+0100
TZNAME:CET
DTSTART:20211031T010000
END:STANDARD
BEGIN:DAYLIGHT
TZOFFSETFROM:+0100
TZOFFSETTO:+0200
TZNAME:CEST
DTSTART:20220327T010000
END:DAYLIGHT
BEGIN:STANDARD
TZOFFSETFROM:+0200
TZOFFSETTO:+0100
TZNAME:CET
DTSTART:20221030T010000
END:STANDARD
END:VTIMEZONE
BEGIN:VEVENT
DTSTART;TZID=Europe/Berlin:20210615T190000
DTEND;TZID=Europe/Berlin:20210615T210000
DTSTAMP:20260421T111351
CREATED:20201126T075315Z
LAST-MODIFIED:20210614T050438Z
UID:6164-1623783600-1623790800@jugendring-duesseldorf.de
SUMMARY:Vollversammlung 02-2021
DESCRIPTION:Wir laden euch recht herzlich zur 2. digitalen Vollversammlung des Jugendrings Düsseldorf ein. \nDie Coronaschutzverordnung lässt eine Vollversammlung des Jugendringes in Präsenz nur unter erschwerten Voraussetzungen zu. Der Vorstand hat daher entschieden\, dass auch die 2. Vollversammlung 2021 online stattfindet. Für die Vollversamm-lung werden wir wieder zwei verschiedene Tools nutzen: Zoom und VotesUp. Die Zugangsdaten\, Einwahllinks und Dokumente solltet ihr per Email erhalten haben. Wir freuen uns auf Euch!
URL:https://jugendring-duesseldorf.de/termin/vollversammlung-02-2021/
ATTACH;FMTTYPE=image/jpeg:https://jugendring-duesseldorf.de/wp-content/uploads/2020/03/close-up-photography-of-yellow-green-red-and-brown-plastic-163064-scaled.jpg
ORGANIZER;CN="Jugendring D%C3%BCsseldorf":MAILTO:info@jugendring-duesseldorf.de
END:VEVENT
END:VCALENDAR