BEGIN:VCALENDAR
VERSION:2.0
PRODID:-//Jugendring Düsseldorf - ECPv6.15.20//NONSGML v1.0//EN
CALSCALE:GREGORIAN
METHOD:PUBLISH
X-ORIGINAL-URL:https://jugendring-duesseldorf.de
X-WR-CALDESC:Veranstaltungen im Jugendring Düsseldorf
REFRESH-INTERVAL;VALUE=DURATION:PT1H
X-Robots-Tag:noindex
X-PUBLISHED-TTL:PT1H
BEGIN:VTIMEZONE
TZID:Europe/Berlin
BEGIN:DAYLIGHT
TZOFFSETFROM:+0100
TZOFFSETTO:+0200
TZNAME:CEST
DTSTART:20240331T010000
END:DAYLIGHT
BEGIN:STANDARD
TZOFFSETFROM:+0200
TZOFFSETTO:+0100
TZNAME:CET
DTSTART:20241027T010000
END:STANDARD
BEGIN:DAYLIGHT
TZOFFSETFROM:+0100
TZOFFSETTO:+0200
TZNAME:CEST
DTSTART:20250330T010000
END:DAYLIGHT
BEGIN:STANDARD
TZOFFSETFROM:+0200
TZOFFSETTO:+0100
TZNAME:CET
DTSTART:20251026T010000
END:STANDARD
BEGIN:DAYLIGHT
TZOFFSETFROM:+0100
TZOFFSETTO:+0200
TZNAME:CEST
DTSTART:20260329T010000
END:DAYLIGHT
BEGIN:STANDARD
TZOFFSETFROM:+0200
TZOFFSETTO:+0100
TZNAME:CET
DTSTART:20261025T010000
END:STANDARD
END:VTIMEZONE
BEGIN:VEVENT
DTSTART;TZID=Europe/Berlin:20250402T183000
DTEND;TZID=Europe/Berlin:20250402T213000
DTSTAMP:20260421T195713
CREATED:20250321T151656Z
LAST-MODIFIED:20250321T161313Z
UID:13905-1743618600-1743629400@jugendring-duesseldorf.de
SUMMARY:Recht und Aufsichtspflicht in der Jugendarbeit
DESCRIPTION:Ihr bietet Ferienfreizeiten\, Aktionen und Gruppenstunden für Kinder und Jugendliche an und wollt auf der sicheren Seite sein? Dann seid ihr hier genau richtig. Wir schauen gemeinsam auf die wichtigsten Fragestellungen zu den Themen Jugendschutz\, Aufsichtspflicht\, Haftung und Datenschutz in der Jugendarbeit und behandeln auch eure Fragen aus der Praxis. Am Ende habt ihr einen guten Überblick darüber\, was man als Gruppenleiter*in alles beachten muss und wo eure Rechte und Pflichten in eurem Ehrenamt liegen. Diese Schulung bietet euch einen Einstieg in das Thema\, kann aber auch als Auffrischung genutzt werden. \nReferent: Kaplan Dr. Christian Jasper\, Stadtjugendseelsorger & Jurist \nAnmeldung online oder per Mail an info@bdkjdus.de Veranstalter: BDKJ Düsseldorf
URL:https://jugendring-duesseldorf.de/termin/recht-und-aufsichtspflicht-in-der-jugendarbeit-2/
LOCATION:Jugendpastorales Zentrum – die  botschaft\, Schloßufer 3\, Düsseldorf\, 40213\, Deutschland
ATTACH;FMTTYPE=image/jpeg:https://jugendring-duesseldorf.de/wp-content/uploads/2025/03/law-4617873_1280.jpg
ORGANIZER;CN="BDKJ D%C3%BCsseldorf":MAILTO:cornelia.seger@bdkjdus.de
END:VEVENT
BEGIN:VEVENT
DTSTART;TZID=Europe/Berlin:20250405T100000
DTEND;TZID=Europe/Berlin:20250405T170000
DTSTAMP:20260421T195713
CREATED:20250321T152712Z
LAST-MODIFIED:20250321T161424Z
UID:13907-1743847200-1743872400@jugendring-duesseldorf.de
SUMMARY:Kinder und Jugendliche schützen – Präventionsschulung Basis+
DESCRIPTION:Kinder und Jugendliche sollen in allen Bereichen der Jugendarbeit einen Ort finden\, an dem sie sich sicher und angenommen fühlen. Dafür setzen wir uns ein. In einer Präventionsschulung wirst du über die verschiedenen Formen von Kindeswohlgefährdung und speziell über sexualisierte Gewalt gegen Heranwachsende informiert. Darüber hinaus erfährst du mehr über den Umgang mit Verdachtsfällen\, sowie präventive Maßnahmen zum Kinderschutz und rechtliche Grundlagen. Die Schulung soll dir Handlungssicherheit in einem Verdachtsfall oder bei Übergriffen und Grenzverletzungen vermitteln und bietet auch Platz für Austausch von erlebten Situationen aus der eigenen Arbeit. Der Kurs entspricht den Vorgaben der Präventionsordnung des Erzbistums Köln. Weitere Angebote zum Thema Prävention auf www.leiterrunde.de. \nReferentin: Johanna Kösling\, KJA Düsseldorf \nAnmeldung unter www.leiterrunde.de.
URL:https://jugendring-duesseldorf.de/termin/kinder-und-jugendliche-schuetzen-praeventionsschulung-basis-6/
LOCATION:Pfarrsaal St. Josef\, Josefstraße 2\, Langenfeld\, 40764
ATTACH;FMTTYPE=image/jpeg:https://jugendring-duesseldorf.de/wp-content/uploads/2024/07/Regen-scaled.jpg
ORGANIZER;CN="BDKJ D%C3%BCsseldorf":MAILTO:cornelia.seger@bdkjdus.de
END:VEVENT
BEGIN:VEVENT
DTSTART;TZID=Europe/Berlin:20250410T173000
DTEND;TZID=Europe/Berlin:20250410T203000
DTSTAMP:20260421T195713
CREATED:20250321T153255Z
LAST-MODIFIED:20250321T161154Z
UID:13910-1744306200-1744317000@jugendring-duesseldorf.de
SUMMARY:Trigger Warning: Rap-Texte im kritischen Blick
DESCRIPTION:Deutsch-sprachige Rap-Musik gehört heute zum medialen Mainstream. In der Jugendkultur ist Deutsch-Rap mittlerweile fest verwurzelt und prägt Alltagssprache\, Kleidungsstil und Subkultur im Allgemeinen. Auch wenn Deutsch-Rap heute kreativer\, diverser und integrativer ist\, als noch vor wenigen Jahren\, gibt es einzelne Künstler*innen\, die problematische Inhalte wie queer-feindliche Inhalte\, Sexismus\, Rassismus und Antisemitismus verbreiten. Im Workshop beschäftigen wir uns mit der Frage: Wie lässt sich ein geeigneter Rahmen schaffen\, um kritisch über „problematische“ Deutsch-Rap-Texte zu sprechen? Welche Stereotypen und Klischees werden durch Rap-Texte reproduziert? \nAnmeldung bis zum 08. April unter www.duesselfalken.de
URL:https://jugendring-duesseldorf.de/termin/trigger-warning-rap-texte-im-kritischen-blick/
LOCATION:Falkenheim Gerresheim\, Unter den Eichen 62a\, 40625\, Deutschland
ATTACH;FMTTYPE=image/jpeg:https://jugendring-duesseldorf.de/wp-content/uploads/2025/03/TRIGGER-WARNING_cmyk-scaled-1-scaled.jpg
ORGANIZER;CN="SJD - Die Falken%2C KV D%C3%BCsseldorf":MAILTO:info@duesselfalken.de
END:VEVENT
BEGIN:VEVENT
DTSTART;TZID=Europe/Berlin:20250410T183000
DTEND;TZID=Europe/Berlin:20250410T200000
DTSTAMP:20260421T195713
CREATED:20250331T153713Z
LAST-MODIFIED:20250331T153713Z
UID:13951-1744309800-1744315200@jugendring-duesseldorf.de
SUMMARY:Austauschtreffen: Deine politischen Sorgen - Was beschäftigt dich?
DESCRIPTION:Rechtsruck\, Migrationsdebatten\, steigende Lebenskosten\, Nachrichten aus der ganzen Welt\, Klimawandel\, Koalitionsverhandlungen…Es gibt gerade viel\, was jungen Menschen Sorgen bereitet. \nDu möchtest dich mit anderen austauschen? Wir\, die DPSG und der Jugendring\, laden dich herzlich ein\, bei einem Kaltgetränk und Snacks einen netten Abend in guter Gesellschaft zu verbringen. Egal ob du einfach nur Gesellschaft suchst\, jemanden zum Reden brauchst oder diskutieren möchtest\, was die aktuellen politischen Entwicklungen für dich bedeuten: Bei unserem Austauschtreffen findest du Leute\, denen es genauso geht. Wir wollen einen diskriminierungssensiblen Austauschraum schaffen\, in dem sich alle möglichst wohl\, akzeptiert und ernstgenommen fühlen. Daher achten wir auf einen respektvollen und sensiblen Umgang miteinander\, sowohl in Sprache als auch Handlungen. Einfach vorbeikommen! \nAm 10.04.2025\, ab 18:30 Uhr\nin der Botschaft\nSchloßufer 3\n40213 Düsseldorf
URL:https://jugendring-duesseldorf.de/termin/austauschtreffen-politik/
LOCATION:Jugendpastorales Zentrum – die  botschaft\, Schloßufer 3\, Düsseldorf\, 40213\, Deutschland
ATTACH;FMTTYPE=image/jpeg:https://jugendring-duesseldorf.de/wp-content/uploads/2025/03/Beispiel-Workshop-e1743435335906.jpg
END:VEVENT
BEGIN:VEVENT
DTSTART;VALUE=DATE:20250412
DTEND;VALUE=DATE:20250420
DTSTAMP:20260421T195713
CREATED:20250310T142308Z
LAST-MODIFIED:20250310T142308Z
UID:13773-1744416000-1745107199@jugendring-duesseldorf.de
SUMMARY:Jugendbegegnung in Narbonne
DESCRIPTION:Wir fahren zusammen mit dem Haus Spilles in den Osterferien nach Narbonne. \nDort verbringst du mit Jugendlichen aus Düsseldorf und unserer Freundschaftsstadt Toulouse eine spannende Woche.\nWer? 16-21 Jährige aus Düsseldorf\nWann? Vom 12. April bis 19. April 25\, ein Vortreffen im März und ein Nachtreffen im Mai in Düsseldorf\nKosten? 50€ \nMehr Infos hier
URL:https://jugendring-duesseldorf.de/termin/jugendbegegnung-in-narbonne/
LOCATION:Narbonne\, Narbonne\, France
ATTACH;FMTTYPE=image/png:https://jugendring-duesseldorf.de/wp-content/uploads/2025/01/Flyer-Narbonne.png
ORGANIZER;CN="Jugendring D%C3%BCsseldorf":MAILTO:info@jugendring-duesseldorf.de
END:VEVENT
BEGIN:VEVENT
DTSTART;TZID=Europe/Berlin:20250412T100000
DTEND;TZID=Europe/Berlin:20250412T190000
DTSTAMP:20260421T195713
CREATED:20250219T143421Z
LAST-MODIFIED:20250402T145558Z
UID:13724-1744452000-1744484400@jugendring-duesseldorf.de
SUMMARY:VERSCHOBEN 05.07. - Bau den Düssel-O-Mat – Deine Thesen für die Düsseldorfer Wahlhilfe
DESCRIPTION:Bei der Kommunalwahl im September 2025 gibt es eine online Wahlhilfe\, den Düssel-O-Maten – von euch und für euch. Du interessierst dich für Politik? Du willst die Thesen im Düssel-O-Maten mitentwickeln? Dann sei bei unserem Workshop am 05.07. dabei! \nWas ist der Düssel-O-Mat?\nDer Düssel-O-Mat ist eine online Wahlhilfe\, wie der Wahl-O-Mat\, den du aus der Bundestagswahl kennst. Beim Düssel-O-Maten gibt es Thesen rund um die Düsseldorfer Kommunalpolitik. Vor allem Jugendliche und junge Erwachsene sollen sich mit den Düssel-O-Maten über die Haltung der Parteien und Kandidat*Innen zu politischen Themen für die anstehende Wahl informieren und sehen\, wer ihnen in politischen Themen am nächsten steht. \nWas erwartet dich?\nDamit für den Düssel-O-Maten die politischen Thesen erstellt werden können\, suchen wir dich! Nämlich junge Menschen\, die bei einem Thesenworkshop mitmachen. Du bestimmst die Themen des Düssel-O-Maten. Du erstellst gemeinsam mit anderen interessierten Jugendlichen/ jungen Erwachsenen im Workshop gemeinsam mit den Politik-Expert*innen die Thesen. Hier erwartet dich etwas Arbeit aber auch viel Spaß in einer Redaktion junger\, engagierter und netter Menschen. Wir sorgen den ganzen Tag für Snacks und Getränke! Ein Mittagessen gibt´s natürlich auch! \nWas solltest du mitbringen?\nDu solltest zwischen 14 und 30 Jahre alt sein. Da der Düssel-O-Mat überparteilich ist\, bist du im Idealfall noch keine Mandats- oder Funktionsträger*in in einer politischen Partei. Und keine Sorge: Du musst nicht Politik studieren\, um mitzumachen. Viel wichtiger sind Neugier\, Spaß am Diskutieren und Interesse an Politik. \nWer steckt hinter dem Düssel-O-Mat?\nDer Düssel-O-Mat wird gemeinsam vom Jugendring und VOTO entwickelt. VOTO ist eine parteineutrale digitale Wahlhilfe für kommunale Wahlen (ähnlich dem Wahl-o-maten). Sie werden den Workshop begleiten und stellen das digitale Tool. \nBei Fragen meldet euch bei Verena: verena.hohn@jugendring-duesseldorf.de oder 015774405541 (SMS oder WhatsApp). \nDatum: 05.07.2025 10:00-19:00 Uhr\nOrt: Haus der Jugend\, Lacombletstr. 10\, 40239 Düsseldorf\nKostenlos inkl. Mittagessen\, Snacks und Getränke\nAnmeldung: Online bis 17.07. \nZur Anmeldung geht’s hier: \n  \n 
URL:https://jugendring-duesseldorf.de/termin/duessel-o-mat-2025/
LOCATION:Jugendring Düsseldorf – Haus der Jugend\, Lacombletstraße 10\, Düsseldorf\, 40239\, Deutschland
ATTACH;FMTTYPE=image/jpeg:https://jugendring-duesseldorf.de/wp-content/uploads/2025/02/Plakat-A3_Duessel-O-Mat--e1743605667539.jpg
ORGANIZER;CN="Jugendring D%C3%BCsseldorf":MAILTO:info@jugendring-duesseldorf.de
END:VEVENT
END:VCALENDAR