BEGIN:VCALENDAR
VERSION:2.0
PRODID:-//Jugendring Düsseldorf - ECPv6.15.20//NONSGML v1.0//EN
CALSCALE:GREGORIAN
METHOD:PUBLISH
X-ORIGINAL-URL:https://jugendring-duesseldorf.de
X-WR-CALDESC:Veranstaltungen im Jugendring Düsseldorf
REFRESH-INTERVAL;VALUE=DURATION:PT1H
X-Robots-Tag:noindex
X-PUBLISHED-TTL:PT1H
BEGIN:VTIMEZONE
TZID:Europe/Berlin
BEGIN:DAYLIGHT
TZOFFSETFROM:+0100
TZOFFSETTO:+0200
TZNAME:CEST
DTSTART:20240331T010000
END:DAYLIGHT
BEGIN:STANDARD
TZOFFSETFROM:+0200
TZOFFSETTO:+0100
TZNAME:CET
DTSTART:20241027T010000
END:STANDARD
BEGIN:DAYLIGHT
TZOFFSETFROM:+0100
TZOFFSETTO:+0200
TZNAME:CEST
DTSTART:20250330T010000
END:DAYLIGHT
BEGIN:STANDARD
TZOFFSETFROM:+0200
TZOFFSETTO:+0100
TZNAME:CET
DTSTART:20251026T010000
END:STANDARD
BEGIN:DAYLIGHT
TZOFFSETFROM:+0100
TZOFFSETTO:+0200
TZNAME:CEST
DTSTART:20260329T010000
END:DAYLIGHT
BEGIN:STANDARD
TZOFFSETFROM:+0200
TZOFFSETTO:+0100
TZNAME:CET
DTSTART:20261025T010000
END:STANDARD
END:VTIMEZONE
BEGIN:VEVENT
DTSTART;TZID=Europe/Berlin:20250603T180000
DTEND;TZID=Europe/Berlin:20250603T210000
DTSTAMP:20260421T233547
CREATED:20250321T160949Z
LAST-MODIFIED:20250321T161450Z
UID:13912-1748973600-1748984400@jugendring-duesseldorf.de
SUMMARY:Visualisieren – Wie gestalte ich Flipcharts anschaulich?
DESCRIPTION:Musstest du schon mal auf einer Jugendfreizeit einen Tagesplan gestalten? Oder möchtest du deine Angebote in der Kindergruppe mit schönen Plakaten aufpimpen? Dann ist dieser Workshop genau das Richtige für dich! Hier lernst du\, wie du Flipcharts anschaulich und übersichtlich gestalten kannst. Du lernst ein paar einfache Regeln\, die dir dabei helfen\, so viel mehr aus deinen Flipcharts zu zaubern. Denn mit den richtigen Tipps und Tricks kann jede*r ein ansprechendes Plakat gestalten. \nAnmeldung bis zum 25. Mai unter www.ejdus.de/termine
URL:https://jugendring-duesseldorf.de/termin/visualisieren-wie-gestalte-ich-flipcharts-anschaulich/
LOCATION:ejd-Campus – Saal\, Kruppstraße 15\, Düsseldorf\, 40227\, Deutschland
ATTACH;FMTTYPE=image/jpeg:https://jugendring-duesseldorf.de/wp-content/uploads/2025/03/2025_06_03_Visualisieren.jpeg
ORGANIZER;CN="evangelische jugend d%C3%BCsseldorf":MAILTO:sarah.ludwig@evdus.de
END:VEVENT
BEGIN:VEVENT
DTSTART;TZID=Europe/Berlin:20250603T180000
DTEND;TZID=Europe/Berlin:20250603T213000
DTSTAMP:20260421T233547
CREATED:20250206T110613Z
LAST-MODIFIED:20250206T110657Z
UID:13651-1748973600-1748986200@jugendring-duesseldorf.de
SUMMARY:Jugendring Vollversammlung 02-25
DESCRIPTION:Wir laden alle Delegierten herzlich zur zweiten Vollversammlung des Jahres ein. Alle Infos\, Anträge und TOPs erhaltet ihr wie gewohnt per Mail.
URL:https://jugendring-duesseldorf.de/termin/jugendring-vollversammlung-02-25/
LOCATION:Haus Spilles
ATTACH;FMTTYPE=image/jpeg:https://jugendring-duesseldorf.de/wp-content/uploads/2022/12/vollversammlung.jpg
ORGANIZER;CN="Jugendring D%C3%BCsseldorf":MAILTO:info@jugendring-duesseldorf.de
END:VEVENT
BEGIN:VEVENT
DTSTART;TZID=Europe/Berlin:20250611T180000
DTEND;TZID=Europe/Berlin:20250611T210000
DTSTAMP:20260421T233547
CREATED:20241211T174119Z
LAST-MODIFIED:20250604T112840Z
UID:13402-1749664800-1749675600@jugendring-duesseldorf.de
SUMMARY:Spiel mit! Kennenlern- und  Gruppenspiele
DESCRIPTION:Gruppenspiele sind das A und O jeder Gruppenstunde\, jedes Zeltlagers und jeder Freizeit\, sie gehören zur Kinder- und Jugendarbeit einfach dazu. Sie machen Spaß und fördern das Miteinander in der Gruppe. Doch immer nur dieselben Spiele zu spielen ist irgendwann langweilig. \nDaher erhältst du in diesem Workshop viele neue Ideen und Anregungen für Kennenlern- und Gruppenspiele. Natürlich werden alle Spiele nicht nur erklärt\, sondern auch gleich ausprobiert! \npowered by eveeno.de
URL:https://jugendring-duesseldorf.de/termin/spiel-mit-kennenlern-und-gruppenspiele/
LOCATION:Jugendring Düsseldorf – Haus der Jugend\, Lacombletstraße 10\, Düsseldorf\, 40239\, Deutschland
ATTACH;FMTTYPE=image/png:https://jugendring-duesseldorf.de/wp-content/uploads/2023/12/Spiel-mit-e1702997360609.png
ORGANIZER;CN="Jugendring D%C3%BCsseldorf":MAILTO:info@jugendring-duesseldorf.de
END:VEVENT
BEGIN:VEVENT
DTSTART;VALUE=DATE:20250612
DTEND;VALUE=DATE:20250616
DTSTAMP:20260421T233547
CREATED:20241219T083350Z
LAST-MODIFIED:20250314T095454Z
UID:13481-1749686400-1750031999@jugendring-duesseldorf.de
SUMMARY:East meets West - Fahrt nach Chemnitz mit Besuch beim KOSMOS Festival
DESCRIPTION:Du bist zwischen 16 und 25 Jahre alt\, engagierst dich ehrenamtlich zum Beispiel in einem Jugendverband oder willst dich gesellschaftlich einbringen? Dann komm mit nach Chemnitz. Vom 12.–15. Juni fahren wir in die Kulturhauptstatt Europas 2025! Es erwartet dich ein spannendes Wochenende voller Begegnungen mit Jugendlichen aus Ost und West\, Diskussionen über die eigenen „Mauern im Kopf“ und natürlich jede Menge Kultur beim KOSMOS Chemnitz Festival.  \nDu kannst mitfahren\, wenn du zum Zeitpunkt der Fahrt mindestens 16 Jahre alt bist. Wenn du unter 18 Jahre alt bist\, benötigen wir eine Einverständniserklärung deiner Erziehungsberechtigten. \nMach mit und erlebe ein inspirierendes Wochenende voller Begegnungen\, Austausch und Kultur! \nEs gibt nur acht Plätze – also schnell Anmelden und dabei sein!  \nBei Fragen melde dich bitte bei Mona.\nTeilnahme: Ab 16 Jahren\, 50 € Teilnahmegebühr \nZur Anmeldung geht´s hier: \n  \n  \n 
URL:https://jugendring-duesseldorf.de/termin/chemnitz25/
LOCATION:Chemnitz
ATTACH;FMTTYPE=image/png:https://jugendring-duesseldorf.de/wp-content/uploads/2024/12/Kopie-von-Vorlage_Webseite-Bilder-Termin-oder-Newsbeitrag-1080x600px.png
ORGANIZER;CN="Jugendring D%C3%BCsseldorf":MAILTO:info@jugendring-duesseldorf.de
END:VEVENT
BEGIN:VEVENT
DTSTART;TZID=Europe/Berlin:20250614T110000
DTEND;TZID=Europe/Berlin:20250614T170000
DTSTAMP:20260421T233547
CREATED:20250527T085401Z
LAST-MODIFIED:20250527T085401Z
UID:14173-1749898800-1749920400@jugendring-duesseldorf.de
SUMMARY:Ehrenamtsmesse auf dem Corneliusplatz
DESCRIPTION:Am Samstag\, 14.06.2025 findet die 5. Düsseldorfer Ehrenamtsmesse am Corneliusplatz statt. Auf Einladung der Stadt Düsseldorf präsentieren sich zahlreiche Verbände und Vereine um für sich und ihr Ehrenamt Werbung zu machen und da dürfen wir\, die Düsseldorfer Jugendverbände natürlich nicht fehlen 🙂 \nWir laden euch\, gemeinsam mit dem Jugendring Düsseldorf\, der evangelischen Jugend Düsseldorf\, der SJD – Die Falken\, dem BDKJ Düsseldorf und der DPSG Düsseldorf ein\, uns bei unserem gemeinsamen Stand am Corneliusplatz zu unterstützen. Wir haben auch einen dieser schönen\, weißen Pagodenzelte\, die ihr schon vom Japantag kennt und wollen uns und unser Ehrenamt vorstellen und junge Menschen begeistern\, sich zu engagieren. \nIhr wollt dabei sein? Dann meldet euch gerne unten an. Ihr wisst ja\, je mehr wir sind\, je besser können wir uns aufteilen und umso mehr Spaß macht es natürlich. \nIhr wollt eigentlich dabei sein\, aber habt an dem Tag keine Zeit? Dann bringt uns gerne vorher etwas Werbematerial (Flyer\, Aufkleber) vorbei. Wir schauen dann\, dass wir alles vor Ort unterbringen. Bitte beachtet\, wir sind eigentlich viele und wollen nicht alles überladen 🙂 \nNeben ein paar Spielchen wollen wir auch kleine Buttons (Vorlage 35mm\, sichtbar sind 25mm) mit politischen Statements gg Rechts unters Volk bringen. Ihr habt dazu Ideen oder Vorlagen? Schreibt uns das gerne in das Formular. \nFragen? Dann meldet euch gerne beim BDKJ Düsseldorf per Mail. \nSam. 14.6.2025\, 11 – 17 Uhr (plus Auf- und Abbau)\ndie botschaft\, D-Altstadt \nBitte meldet euch bis Die\, 10.06.25\, damit wir ggf. Rückfragen stellen können. Danke euch und wir freuen uns 🙂
URL:https://jugendring-duesseldorf.de/termin/ehrenamtsmesse-auf-dem-corneliusplatz/
LOCATION:Corneliusplatz
ATTACH;FMTTYPE=image/jpeg:https://jugendring-duesseldorf.de/wp-content/uploads/2025/05/01_SoMe_Ehrenamtsmesse_Facebook_01-scaled-e1748335963374.jpg
ORGANIZER;CN="Jugendring D%C3%BCsseldorf":MAILTO:info@jugendring-duesseldorf.de
END:VEVENT
BEGIN:VEVENT
DTSTART;TZID=Europe/Berlin:20250627T170000
DTEND;TZID=Europe/Berlin:20250627T170000
DTSTAMP:20260421T233547
CREATED:20250514T091025Z
LAST-MODIFIED:20250616T105029Z
UID:14079-1751043600-1751043600@jugendring-duesseldorf.de
SUMMARY:BarCamp „Co-Creating Our City“
DESCRIPTION:Was muss passieren\, damit sich ALLE Jugendlichen in Düsseldorf politisch beteiligen können?\nWelche Informationen\, Räume und Möglichkeiten braucht es\, damit Jugendbeteiligung wirklich funktioniert? Das wollen wir mit dir diskutieren beim \nBarCamp „Co-Creating Our City“\nam 27. Juni 2025\, ab 17 Uhr\nim Haus der Jugend (Lacombletstraße 10\, 40239 Düsseldorf) \nIm Projekt „Co-Creating Our City“ erforschen junge Menschen gemeinsam mit Menschen aus Politik und Verwaltung\, wie Jugendbeteiligung gelingen kann. Beim BarCamp unserer Abschlussveranstaltung erfährst du\, was wir im Projekt bereits herausgefunden haben. Erkunde die Beteiligungsmöglichkeiten in Düsseldorf und bringe deine Meinungen und Ideen ein: Welche Möglichkeiten gibt es für junge Menschen\, sich politisch und gesellschaftlich einzubringen? Welche Beteiligungsformate funktionieren – und welche fehlen noch? Welche Rolle sollte Schule spielen? Wie könnte Kommunalpolitik auf Social Media stattfinden? \nJetzt bist du gefragt: \n\nEntwickle Lösungsvorschläge! In offenen Diskussionsrunden und interaktiven Workshops arbeitest du gemeinsam mit anderen Teilnehmenden an Ideen für eine Stadt\, in der die Visionen junger Menschen Gehör finden.\nKomm ins Gespräch mit Entscheidungsträger*innen! Nutze die Chance\, mit Vertreter*innen aus Politik und Verwaltung zu sprechen. Stell deine Fragen\, diskutiere deine Ideen und finde heraus\, wie Veränderung auf lokaler Ebene funktioniert.\nVernetze dich! Lerne Menschen kennen\, mit denen du Veränderungen in Düsseldorf anstoßen kannst.\n\nBeim BarCamp bestimmst du mit\, welche Themen diskutiert werden. Du kannst spontan vorbeikommen und deine Ideen einbringen. Für die Planung hilft es uns\, wenn du dich vorab anmeldest: \nJetzt anmelden \nWir freuen uns auf den Austausch mit dir! \nDisclaimer\nDas BarCamp „Co-Creating Our City“ ist eine überparteiliche und offene Veranstaltung\, die einen konstruktiven Austausch zwischen jungen Menschen\, Vertreter*innen aus Verwaltung und Politik und allen\, die Jugendbeteiligung neu denken wollen\, ermöglicht. Wir bitten alle Teilnehmenden\, die Überparteilichkeit der Veranstaltung zu respektieren. Parteipolitische Werbung oder Wahlkampfaktivitäten sind nicht erwünscht. \nDie Veranstaltenden behalten sich vor\, von ihrem Hausrecht Gebrauch zu machen und Personen\, \n\ndie rechtsextremen Parteien oder Organisationen angehören\,\nder rechtsextremen Szene zuzuordnen sind oder\nbereits in der Vergangenheit durch rassistische\, nationalistische\, antisemitische\, sexistische\, queerfeindliche\, behindertenfeindliche oder sonstige menschenverachtende Äußerungen in Erscheinung getreten sind\,\n\nden Zutritt zur Veranstaltung zu verwehren oder von dieser auszuschließen.
URL:https://jugendring-duesseldorf.de/termin/barcamp-co-creating-our-city/
LOCATION:Haus der Jugend\, Lacombletstr. 10\, Düsseldorf\, NRW\, 40239\, Deutschland
ATTACH;FMTTYPE=image/jpeg:https://jugendring-duesseldorf.de/wp-content/uploads/2025/05/Vorlage-Co-Creating-Our-City.jpg
ORGANIZER;CN="Jugendring D%C3%BCsseldorf":MAILTO:info@jugendring-duesseldorf.de
END:VEVENT
BEGIN:VEVENT
DTSTART;TZID=Europe/Berlin:20250629T120000
DTEND;TZID=Europe/Berlin:20250629T170000
DTSTAMP:20260421T233547
CREATED:20250321T164243Z
LAST-MODIFIED:20250321T164243Z
UID:13926-1751198400-1751216400@jugendring-duesseldorf.de
SUMMARY:Antifaschistische Radtour: 1945 – Befreiung oder Niederlage?
DESCRIPTION:80 Jahre nach dem Ende des Nationalsozialismus begeben wir uns mit unseren Fahrrädern auf Spurensuche in den letzten Monaten des Regimes in Düsseldorf. Bis zum letzten Tag versuchte das NS-Regime\, die Illusion einer „Volksgemeinschaft“ mit Terror aufrecht- zuerhalten\, während mutige Widerstandskämpfer*innen verfolgt und ermordet wurden. War der Einmarsch der Amerikaner für die Düsseldorfer*innen tatsächlich eine Befreiung – oder wurde er von vielen eher als Niederlage empfunden? Während manche nahtlos weitermachen konnten\, sahen sich Verfolgte und die Angehörigen Ermordeter weiterhin mit den einstigen Täter*innen konfrontiert. Kein Fahrrad? Kein Problem! Melde dich\, wir finden eine Lösung! \nZeit: 12:00 bis 17:00 Uhr.\nKostenlose Anmeldung bis zum 25. Juni unter www.duesselfalken.de
URL:https://jugendring-duesseldorf.de/termin/antifaschistische-radtour-1945-befreiung-oder-niederlage/
LOCATION:Mahn- und Gedenkstätte Düsseldorf\, Mühlenstraße 29\, Düsseldorf\, 40213\, Deutschland
ATTACH;FMTTYPE=image/jpeg:https://jugendring-duesseldorf.de/wp-content/uploads/2025/03/Pempelfort-Rochuskirche.jpg
ORGANIZER;CN="SJD - Die Falken%2C KV D%C3%BCsseldorf":MAILTO:info@duesselfalken.de
END:VEVENT
END:VCALENDAR