BEGIN:VCALENDAR
VERSION:2.0
PRODID:-//Jugendring Düsseldorf - ECPv6.15.20//NONSGML v1.0//EN
CALSCALE:GREGORIAN
METHOD:PUBLISH
X-WR-CALNAME:Jugendring Düsseldorf
X-ORIGINAL-URL:https://jugendring-duesseldorf.de
X-WR-CALDESC:Veranstaltungen im Jugendring Düsseldorf
REFRESH-INTERVAL;VALUE=DURATION:PT1H
X-Robots-Tag:noindex
X-PUBLISHED-TTL:PT1H
BEGIN:VTIMEZONE
TZID:Europe/Berlin
BEGIN:DAYLIGHT
TZOFFSETFROM:+0100
TZOFFSETTO:+0200
TZNAME:CEST
DTSTART:20240331T010000
END:DAYLIGHT
BEGIN:STANDARD
TZOFFSETFROM:+0200
TZOFFSETTO:+0100
TZNAME:CET
DTSTART:20241027T010000
END:STANDARD
BEGIN:DAYLIGHT
TZOFFSETFROM:+0100
TZOFFSETTO:+0200
TZNAME:CEST
DTSTART:20250330T010000
END:DAYLIGHT
BEGIN:STANDARD
TZOFFSETFROM:+0200
TZOFFSETTO:+0100
TZNAME:CET
DTSTART:20251026T010000
END:STANDARD
BEGIN:DAYLIGHT
TZOFFSETFROM:+0100
TZOFFSETTO:+0200
TZNAME:CEST
DTSTART:20260329T010000
END:DAYLIGHT
BEGIN:STANDARD
TZOFFSETFROM:+0200
TZOFFSETTO:+0100
TZNAME:CET
DTSTART:20261025T010000
END:STANDARD
END:VTIMEZONE
BEGIN:VEVENT
DTSTART;TZID=Europe/Berlin:20250712T090000
DTEND;TZID=Europe/Berlin:20250826T180000
DTSTAMP:20260422T032719
CREATED:20250707T082140Z
LAST-MODIFIED:20250707T083258Z
UID:14411-1752310800-1756231200@jugendring-duesseldorf.de
SUMMARY:Ferien-Notfall-Hotline Sommerferien
DESCRIPTION:In den Sommerferien bieten wir wieder unsere Hotline rund um die Fragen des Kinderschutzes und Jugendverbände an. Die Mitarbeiter*innen des Jugendrings stehen den Jugendverbänden und Jugendgruppenleitungen als Ansprechpartner*innen für die Ferienfreizeiten zur Verfügung. \nIhr habt ein komisches Bauchgefühl bei einem Kind/Jugendlichen oder Mitleitenden? \nEs kommt zu Situationen\, die einzelne Personen oder die gesamte Gruppe belasten? \nIhr braucht einen Tipp\, die Möglichkeit zum Austausch oder Beratung? \nWir helfen gerne im Rahmen unserer Möglichkeiten! \nIhr erreicht uns täglich unter der Nummer: 0176 63396383. \nSolltet ihr uns nicht direkt erreichen hinterlasst uns gerne eine Nachricht oder schickt eine SMS – wir rufen euch schnellstmöglich zurück. \n 
URL:https://jugendring-duesseldorf.de/termin/ferien-notfall-hotline-sommerferien-2/
ATTACH;FMTTYPE=image/jpeg:https://jugendring-duesseldorf.de/wp-content/uploads/2025/07/Notfallhandy_Sommer_25_Homepage-1.jpg
END:VEVENT
BEGIN:VEVENT
DTSTART;TZID=Europe/Berlin:20250806T190000
DTEND;TZID=Europe/Berlin:20250806T213000
DTSTAMP:20260422T032719
CREATED:20250703T130854Z
LAST-MODIFIED:20250703T130854Z
UID:14377-1754506800-1754515800@jugendring-duesseldorf.de
SUMMARY:Gewerkschaftliches Pubquiz
DESCRIPTION:Die DGB-Jugend Düsseldorf-Bergisch Land lädt euch ein. Gemeinsam quizzen wir uns durch verschiedene Kategorien der Gewerkschaftswelt. Für kleine Snacks und Getränke wird gesorgt sein. \nIhr könnt euch sowohl als Einzelperson oder als bereits bestehendes Quizteam anmelden (3-5 Personen). Es sind sowohl Mitglieder als auch interessierte Nicht-Mitglieder willkommen. Auch ein kleiner Preis wartet auf die Gewinner*innen. \nEine Anmeldung ist Voraussetzung zur Teilnahme! Daher schreibt uns euren Namen und euer Alter über eine DM bei Instagram oder per E-Mail an nrw.duesseldorf.anmeldung@dgb.de. Die Plätze sind begrenzt\, daher seid schnell. Wir freuen uns auf einen fantastischen Abend mit euch!
URL:https://jugendring-duesseldorf.de/termin/gewerkschaftliches-pubquiz/
LOCATION:Brauerei Kürzer\, Kurze-Straße 20\, Düsseldorf\, 40213\, Germany
ATTACH;FMTTYPE=image/png:https://jugendring-duesseldorf.de/wp-content/uploads/2025/07/1.png
END:VEVENT
BEGIN:VEVENT
DTSTART;TZID=Europe/Berlin:20250822T080000
DTEND;TZID=Europe/Berlin:20250822T170000
DTSTAMP:20260422T032719
CREATED:20250822T094149Z
LAST-MODIFIED:20250822T094149Z
UID:14837-1755849600-1755882000@jugendring-duesseldorf.de
SUMMARY:Rotes Kino: Blick auf Erziehung in extrem rechten Milieus
DESCRIPTION:In der nächsten Sitzung zeigen wir einen eindrucksvollen\, teilweise animierten Dokumentarfilm über die Erziehung in rechtsextremen Familien und deren Auswirkungen auf die gesellschaftliche Wahrnehmung und das Weltbild der nächsten Generation. Im Anschluss wird der Einfluss von Elternhäusern und Erziehungserfahrungen auf gesellschaftliche Konflikte thematisiert und darüber diskutiert\, wie die Neue Rechte es geschafft hat\, sich hinter einer „kuscheligen“ Fassade zu verstecken. \nAnmeldung online unter www.duesselfalken.de
URL:https://jugendring-duesseldorf.de/termin/rotes-kino-blick-auf-erziehung-in-extrem-rechten-milieus/
LOCATION:Falkenheim Gerresheim\, Unter den Eichen 62a\, 40625\, Deutschland
ATTACH;FMTTYPE=image/png:https://jugendring-duesseldorf.de/wp-content/uploads/2025/01/Rotes-Kino.png
ORGANIZER;CN="SJD - Die Falken%2C KV D%C3%BCsseldorf":MAILTO:info@duesselfalken.de
END:VEVENT
END:VCALENDAR