BEGIN:VCALENDAR
VERSION:2.0
PRODID:-//Jugendring Düsseldorf - ECPv6.15.20//NONSGML v1.0//EN
CALSCALE:GREGORIAN
METHOD:PUBLISH
X-ORIGINAL-URL:https://jugendring-duesseldorf.de
X-WR-CALDESC:Veranstaltungen im Jugendring Düsseldorf
REFRESH-INTERVAL;VALUE=DURATION:PT1H
X-Robots-Tag:noindex
X-PUBLISHED-TTL:PT1H
BEGIN:VTIMEZONE
TZID:Europe/Berlin
BEGIN:DAYLIGHT
TZOFFSETFROM:+0100
TZOFFSETTO:+0200
TZNAME:CEST
DTSTART:20240331T010000
END:DAYLIGHT
BEGIN:STANDARD
TZOFFSETFROM:+0200
TZOFFSETTO:+0100
TZNAME:CET
DTSTART:20241027T010000
END:STANDARD
BEGIN:DAYLIGHT
TZOFFSETFROM:+0100
TZOFFSETTO:+0200
TZNAME:CEST
DTSTART:20250330T010000
END:DAYLIGHT
BEGIN:STANDARD
TZOFFSETFROM:+0200
TZOFFSETTO:+0100
TZNAME:CET
DTSTART:20251026T010000
END:STANDARD
BEGIN:DAYLIGHT
TZOFFSETFROM:+0100
TZOFFSETTO:+0200
TZNAME:CEST
DTSTART:20260329T010000
END:DAYLIGHT
BEGIN:STANDARD
TZOFFSETFROM:+0200
TZOFFSETTO:+0100
TZNAME:CET
DTSTART:20261025T010000
END:STANDARD
END:VTIMEZONE
BEGIN:VEVENT
DTSTART;TZID=Europe/Berlin:20251202T180000
DTEND;TZID=Europe/Berlin:20251202T210000
DTSTAMP:20260422T105627
CREATED:20250703T093759Z
LAST-MODIFIED:20251128T090345Z
UID:14314-1764698400-1764709200@jugendring-duesseldorf.de
SUMMARY:ABGESAGT - Spiel mit! Spiele im Dunkeln
DESCRIPTION:Jetzt ist sie wieder da\, „die dunkle Jahreszeit“ und mit ihr die Frage: „Was können wir überhaupt noch spielen\, wenn es stockfinster ist?“. \nDaher erhältst du in diesem Workshop viele neue Ideen und Anregungen für spaßige und spannende Spiele und Methoden im Dunkeln. Natürlich werden alle Spiele nicht nur erklärt\, sondern auch gleich ausprobiert! Taschenlampe nicht vergessen!
URL:https://jugendring-duesseldorf.de/termin/spiel-mit-im-dunkeln/
LOCATION:Jugendring Düsseldorf – Haus der Jugend\, Lacombletstraße 10\, Düsseldorf\, 40239\, Deutschland
ATTACH;FMTTYPE=image/jpeg:https://jugendring-duesseldorf.de/wp-content/uploads/2025/06/Dunkel_VZ.jpg
ORGANIZER;CN="Jugendring D%C3%BCsseldorf":MAILTO:info@jugendring-duesseldorf.de
END:VEVENT
BEGIN:VEVENT
DTSTART;TZID=Europe/Berlin:20251205T190000
DTEND;TZID=Europe/Berlin:20251205T230000
DTSTAMP:20260422T105627
CREATED:20250703T093333Z
LAST-MODIFIED:20251204T122950Z
UID:14307-1764961200-1764975600@jugendring-duesseldorf.de
SUMMARY:Danke-Party goes Krimidinner
DESCRIPTION:Die Anmeldung ist geschlossen\, solltet ihr spontan noch kommen wollen meldet euch bitte bei Sonja (sonja.schuessler@jugendring-duesseldorf.de) ob noch Plätze frei sind. \n[vc_row][vc_column][vc_column_text css=““]Am 5. Dezember möchten wir euch DANKE sagen für euer Engagement und die geleistete ehrenamtliche Arbeit in euren Verbänden und für Kinder und Jugendliche in unserer Stadt. \nHobbydetektive und Krimibegeisterte aufgepasst! Euch erwartet eine Reise nach Nordengland in die Anfänge des 20. Jahrhunderts. Das verschollene Kreuz der Könige von England taucht wieder auf\, doch eine uralte Legende umgibt dieses Kreuz\, während rätselhafte Verbrechen geschehen. \nDas Ganze wird von einem köstlichen 3-Gänge-Buffet begleitet\, das perfekt zur winterlichen Atmosphäre passt. Außerdem erwarten euch kleine Überraschungen und attraktive Gewinne. \nWir laden euch herzlich ein\, gemeinsam zu rätseln\, zu kombinieren und zu schlussfolgern. Freut euch auf einen unvergesslichen Abend mit köstlichem Essen und einem fesselnden Krimitheater. \nDie Anmeldung ist geschlossen\, solltet ihr spontan noch kommen wollen meldet euch bitte bei Sonja (sonja.schuessler@jugendring-duesseldorf.de) ob noch Plätze frei sind. \n\n[/vc_column_text][/vc_column][/vc_row]
URL:https://jugendring-duesseldorf.de/termin/danke-krimidinner/
LOCATION:Lambertussaal\, Altstadt\, Stiftsplatz 4\, Düsseldorf\, 40213\, Deutschland
ATTACH;FMTTYPE=image/png:https://jugendring-duesseldorf.de/wp-content/uploads/2025/06/DasKriminalDinner_ohne-original_schwarz_rot_registered.png
ORGANIZER;CN="Jugendring D%C3%BCsseldorf":MAILTO:info@jugendring-duesseldorf.de
END:VEVENT
BEGIN:VEVENT
DTSTART;VALUE=DATE:20251208
DTEND;VALUE=DATE:20251210
DTSTAMP:20260422T105627
CREATED:20251114T121023Z
LAST-MODIFIED:20260313T071752Z
UID:15475-1765152000-1765324799@jugendring-duesseldorf.de
SUMMARY:Democracy Show
DESCRIPTION:[vc_row][vc_column][vc_column_text css=““] \nWas erwartet dich in der „Democracy Show“?\n[/vc_column_text][vc_column_text css=““]Tritt ein ins schillernde Fernsehstudio\, wo Charisma\, Schlagfertigkeit und Strategie darüber entscheiden\, wer Kanzler*in wird! Werde Teil der Gameshow und entscheide über die Zukunft des Landes. \nIn diesem interaktiven Rollenspiel schlüpfst du in verschiedene Rollen: als Kandidat*in\, Moderator*in oder Publikum nimmst du direkten Einfluss auf die Wahl. Du erlebst hautnah\, wie Polarisierung\, Bias und Manipulation die Wahrnehmung politischer Führung beeinflussen – und spürst\, wie rasant sich Meinungen formen\, verschieben und lenken lassen.[/vc_column_text][vc_column_text css=““]Werde gemeinsam mit deiner Jugendgruppe oder Schulklasse die erste Textgruppe für unser neues Spiel „Democracy Show“! Das Spiel entwickelt der Jugendring gemeinsam mit Epic Education (mehr Hintergrundinfos bekommst du hier). Im Dezember ist die erste Version da und spielbar. Um das Spiel weiter zu verbessern suchen wir euch! Testet gemeinsam mit uns das Spiel und erfahrt dabei mehr über Demokratie\, Populismus und Manipulationsstrategien in Medien.[/vc_column_text][vc_column_text css=““]Das Spiel ist geeignet für Jugendliche und junge Erwachsene zwischen 14 und 27 Jahren und eine Gruppengröße zwischen 8 bis 30 Personen. Vorerfahrungen oder Vorwissen ist nicht notwendig. Du brauchst nur Lust am Spielen und Interesse in die Welt der Politik und Medien einzutauchen![/vc_column_text][/vc_column][/vc_row][vc_row][vc_column][vc_column_text css=““] \nDu hast Lust mit einer Jugendgruppe oder Schulklasse mitzumachen? Dann melde dich jetzt an!\n[/vc_column_text][vc_column_text css=““]Wann? 08. & 09.12. zu verschiedenen Uhrzeiten (siehe Anmeldeformular) \nWo? Haus der Jugend\, Lacombletstr. 10\, 40227 Düsseldorf[/vc_column_text][vc_column_text css=““]Hier anmelden! \n\n[/vc_column_text][/vc_column][/vc_row]
URL:https://jugendring-duesseldorf.de/termin/democracy-show/
LOCATION:Jugendring Düsseldorf – Haus der Jugend\, Lacombletstraße 10\, Düsseldorf\, 40239\, Deutschland
ATTACH;FMTTYPE=image/jpeg:https://jugendring-duesseldorf.de/wp-content/uploads/2025/11/Democracy-Show_Webseite_Bild-1.jpg
ORGANIZER;CN="Jugendring D%C3%BCsseldorf":MAILTO:info@jugendring-duesseldorf.de
END:VEVENT
BEGIN:VEVENT
DTSTART;TZID=Europe/Berlin:20251210T190000
DTEND;TZID=Europe/Berlin:20251210T220000
DTSTAMP:20260422T105627
CREATED:20250703T095735Z
LAST-MODIFIED:20250703T095735Z
UID:13658-1765393200-1765404000@jugendring-duesseldorf.de
SUMMARY:Jugendring Vollversammlung 04-25
DESCRIPTION:Wir laden alle Delegierten herzlich zur vierten Vollversammlung des Jahres ein. Alle Infos\, Anträge und TOPs erhaltet ihr wie gewohnt per Mail.
URL:https://jugendring-duesseldorf.de/termin/jugendring-vollversammlung-04-25/
LOCATION:Haus der Jugend\, Lacombletstr. 10\, Düsseldorf\, NRW\, 40239\, Deutschland
ATTACH;FMTTYPE=image/jpeg:https://jugendring-duesseldorf.de/wp-content/uploads/2022/12/vollversammlung.jpg
ORGANIZER;CN="Jugendring D%C3%BCsseldorf":MAILTO:info@jugendring-duesseldorf.de
END:VEVENT
BEGIN:VEVENT
DTSTART;TZID=Europe/Berlin:20251214T110000
DTEND;TZID=Europe/Berlin:20251214T170000
DTSTAMP:20260422T105627
CREATED:20251211T142549Z
LAST-MODIFIED:20251211T142611Z
UID:15725-1765710000-1765731600@jugendring-duesseldorf.de
SUMMARY:Interaktives TikTok-Event - Ein kreativer Vorgeschmack auf unser Jahresprojekt „TikTok Jugendredaktion“!
DESCRIPTION:[vc_row][vc_column][vc_column_text css=““]Interaktives TikTok-Event – Ein kreativer Vorgeschmack auf unser Jahresprojekt „TikTok Jugendredaktion“! \nWir laden euch zu einem offenen\, praxisorientierten Workshop ein\, in dem ihr moderne digitale Kommunikation hautnah erleben und direkt eigene Videos produzieren könnt – gemeinsam mit zwei starken Stimmen der neuen Medienwelt: \n✨ Maria Mokromenko – Kommunikationsdesign\, Social Media & kreative Jugendkommunikation\n✨ Sofia Groznaya – Multimedia-Journalistin\, Videoredakteurin bei bvre.jugend & Koordinatorin bei besedka.de \nDie beiden teilen ihr Know-how\, entwickeln mit euch Ideen\, schreiben kurze Skripte und begleiten die Produktion mehrerer TikTok-Videos vor Ort. Ihr erfahrt\, wie Trends\, Humor\, klare Botschaften und starke Hooks zu überzeugenden Kurzvideos werden. \n🎯 Ziele des Events \nEuch einen praktischen Einblick in moderne digitale Kommunikation zu geben – kreativ\, niedrigschwellig und empowernd. \nUnser Jahresprojekt „TikTok Jugendredaktion“ vorzustellen – eine Plattform für junge Menschen\, die gesellschaftliche Themen mutig\, verständlich und relevant erzählen wollen. \n📅 14.12.2025\n⏰ 11:00–17:00 Uhr\n📍 Jugendring Düsseldorf\, Lacombletstr. 10\, 40239 Düsseldorf \nOhne Anmeldung! Kommt vorbei\, bringt eure Ideen mit und werdet Teil eines Projekts\, das neue Stimmen sichtbar macht – laut\, modern und mutig.[/vc_column_text][/vc_column][/vc_row]
URL:https://jugendring-duesseldorf.de/termin/interaktives-tiktok-event/
LOCATION:Haus der Jugend\, Lacombletstr. 10\, Düsseldorf\, NRW\, 40239\, Deutschland
ATTACH;FMTTYPE=image/jpeg:https://jugendring-duesseldorf.de/wp-content/uploads/2025/12/WhatsApp-Image-2025-12-11-at-12.58.31-e1765462937259.jpeg
ORGANIZER;CN="Jugendring D%C3%BCsseldorf":MAILTO:info@jugendring-duesseldorf.de
END:VEVENT
END:VCALENDAR