BEGIN:VCALENDAR
VERSION:2.0
PRODID:-//Jugendring Düsseldorf - ECPv6.15.20//NONSGML v1.0//EN
CALSCALE:GREGORIAN
METHOD:PUBLISH
X-WR-CALNAME:Jugendring Düsseldorf
X-ORIGINAL-URL:https://jugendring-duesseldorf.de
X-WR-CALDESC:Veranstaltungen im Jugendring Düsseldorf
REFRESH-INTERVAL;VALUE=DURATION:PT1H
X-Robots-Tag:noindex
X-PUBLISHED-TTL:PT1H
BEGIN:VTIMEZONE
TZID:Europe/Berlin
BEGIN:DAYLIGHT
TZOFFSETFROM:+0100
TZOFFSETTO:+0200
TZNAME:CEST
DTSTART:20250330T010000
END:DAYLIGHT
BEGIN:STANDARD
TZOFFSETFROM:+0200
TZOFFSETTO:+0100
TZNAME:CET
DTSTART:20251026T010000
END:STANDARD
BEGIN:DAYLIGHT
TZOFFSETFROM:+0100
TZOFFSETTO:+0200
TZNAME:CEST
DTSTART:20260329T010000
END:DAYLIGHT
BEGIN:STANDARD
TZOFFSETFROM:+0200
TZOFFSETTO:+0100
TZNAME:CET
DTSTART:20261025T010000
END:STANDARD
BEGIN:DAYLIGHT
TZOFFSETFROM:+0100
TZOFFSETTO:+0200
TZNAME:CEST
DTSTART:20270328T010000
END:DAYLIGHT
BEGIN:STANDARD
TZOFFSETFROM:+0200
TZOFFSETTO:+0100
TZNAME:CET
DTSTART:20271031T010000
END:STANDARD
END:VTIMEZONE
BEGIN:VEVENT
DTSTART;TZID=Europe/Berlin:20260302T180000
DTEND;TZID=Europe/Berlin:20260302T200000
DTSTAMP:20260424T160327
CREATED:20260129T123828Z
LAST-MODIFIED:20260129T123828Z
UID:15943-1772474400-1772481600@jugendring-duesseldorf.de
SUMMARY:Folgebelehrung nach dem Infektionsschutzgesetz
DESCRIPTION:Für alle diejenigen\, die in ihrer Arbeit mit Lebensmitteln zu tun haben (z.B. in der Übermittagsbetreuung\, beim Verkauf von Snacks in der OT\, auf Selbstversorgerfreizeiten oder auch bei der Ausgabe von Essen auf Gemeindefesten etc.)\, ist es nach der Lebensmittelhygieneverordnung und dem Infektionsschutzgesetz verpflichtend\, sich mindestens alle zwei Jahre über Neuerungen im Lebensmittelrecht belehren zu lassen. Da nicht jede Gemeinde und jeder Verband solche Veranstaltungen selbst anbieten kann\, geben wir euch mit diesem Seminar die Gelegenheit\, eine solche Schulung zu besuchen. Dies ist eine Folgebelehrung zur jährlichen Auffrischung der Erstbelehrung des Gesundheitsamts der Stadt Düsseldorf. \nAnmeldung bis zum 23. Februar online unter www.jugend-ehrenamt.evdus.de
URL:https://jugendring-duesseldorf.de/termin/folgebelehrung-nach-dem-infektionsschutzgesetz-4/
LOCATION:ejd-Campus – Saal\, Kruppstraße 15\, Düsseldorf\, 40227\, Deutschland
ATTACH;FMTTYPE=image/jpeg:https://jugendring-duesseldorf.de/wp-content/uploads/2022/02/Infektionsschutz.jpg
ORGANIZER;CN="evangelische jugend d%C3%BCsseldorf":MAILTO:sarah.ludwig@evdus.de
END:VEVENT
BEGIN:VEVENT
DTSTART;TZID=Europe/Berlin:20260302T183000
DTEND;TZID=Europe/Berlin:20260302T203000
DTSTAMP:20260424T160327
CREATED:20251202T131957Z
LAST-MODIFIED:20251202T132204Z
UID:15429-1772476200-1772483400@jugendring-duesseldorf.de
SUMMARY:Horizonte erweitern: Einstieg in internationale Projekte (Modul 1)
DESCRIPTION:[vc_row][vc_column][vc_column_text css=““]Für junge Engagierte\, die Lust haben\, über den Tellerrand zu schauen und neue Möglichkeiten für internationale Begegnungen zu entdecken! \nStell dir vor\, du bist Teil einer Begegnung\, bei der du Menschen aus anderen Ländern kennenlernst\, neue Perspektiven gewinnst und Freundschaften knüpfst\, die bleiben. Ganz nebenbei sammelst du Erfahrungen und Skills\, die dir in Schule\, Ausbildung\, Studium \, Beruf – und im Alltag – weiterhelfen. \nIn unserem Workshop bekommst du einen Überblick\, wie internationale Jugendbegegnungen funktionieren\, wie man selbst ein Projekt starten kann und wo man Unterstützung und Fördermittel findet. \nWas erwartet dich? \nDer Workshop ist praxisnah\, locker und auf eure Interessen zugeschnitten. Wir starten mit den Grundlagen\, tauschen eure bisherigen Erfahrungen aus und schauen gemeinsam\, wie spannende Projekte entstehen können. Außerdem gibt’s nützliche Tipps zu Fördermöglichkeiten und eine gute Gelegenheit\, andere Engagierte kennenzulernen. \nZwei Module (du kannst dich einzeln oder für beide anmelden) \nModul 1 am 2. März: Was macht eine Jugendbegegnung richtig gut? \n\nWarum sind internationale Begegnungen wertvoll?\nWas kannst du persönlich daraus mitnehmen?\nWelche Zutaten machen ein Projekt gut und erfolgreich?\nEin Beispielprogramm zeigt dir\, wie Abläufe aussehen können – realistisch und machbar.\n\nModul 2 am 9. März: Welche Fördermöglichkeiten gibt es? \n\nÜberblick über die relevanten Förderprogramme (Erasmus+\, DFJW\, KJFP u.v.m.)\nPraktische Tipps\, wie Anträge einfacher werden\nKontakte zu Beratungsstellen\, die dich unterstützen\, wenn du ein eigenes Projekt starten willst\n\n[/vc_column_text][/vc_column][/vc_row][vc_row][vc_column][vc_column_text css=““] \n\n[/vc_column_text][/vc_column][/vc_row][vc_row tax_on=“1″ tax_name=“arbeitsbereich“ tax_id=“150″ tax_relation=“AND“ post_id=““ posttype=“teammitglied“ type=“grid“ thumb=“header-wide“ perpage=“1″ sameheight=“1″ masonry=““ cols=“1|1|1″][vc_column][vc_column_text css=““]Die Workshops werden in Kooperation mit dem zeTT Jugendinfo durchgeführt. \nBei Fragen wende dich bitte an Mona: 0163/ 8726829 oder mona.moentmann@jugendring.de[/vc_column_text][/vc_column][/vc_row]
URL:https://jugendring-duesseldorf.de/termin/horizonte-erweitern/
ATTACH;FMTTYPE=image/png:https://jugendring-duesseldorf.de/wp-content/uploads/2025/11/Horizonte-erweitern.png
END:VEVENT
BEGIN:VEVENT
DTSTART;TZID=Europe/Berlin:20260309T183000
DTEND;TZID=Europe/Berlin:20260309T203000
DTSTAMP:20260424T160327
CREATED:20251114T103439Z
LAST-MODIFIED:20251202T132119Z
UID:15432-1773081000-1773088200@jugendring-duesseldorf.de
SUMMARY:Horizonte erweitern (Modul 2)
DESCRIPTION:[vc_row][vc_column][vc_column_text css=““]Für junge Engagierte\, die Lust haben\, über den Tellerrand zu schauen und neue Möglichkeiten für internationale Begegnungen zu entdecken! \nStell dir vor\, du bist Teil einer Begegnung\, bei der du Menschen aus anderen Ländern kennenlernst\, neue Perspektiven gewinnst und Freundschaften knüpfst\, die bleiben. Ganz nebenbei sammelst du Erfahrungen und Skills\, die dir in Schule\, Ausbildung\, Studium\, Beruf – und im Alltag – weiterhelfen. \nIn unserem Workshop bekommst du einen Überblick\, wie internationale Jugendbegegnungen funktionieren\, wie man selbst ein Projekt starten kann und wo man Unterstützung und Fördermittel findet. \nWas erwartet dich? \nDer Workshop ist praxisnah\, locker und auf eure Interessen zugeschnitten. Wir starten mit den Grundlagen\, tauschen eure bisherigen Erfahrungen aus und schauen gemeinsam\, wie spannende Projekte entstehen können. Außerdem gibt’s nützliche Tipps zu Fördermöglichkeiten und eine gute Gelegenheit\, andere Engagierte kennenzulernen. \nZwei Module (du kannst dich einzeln oder für beide anmelden) \nModul 1 am 2. März: Was macht eine Jugendbegegnung richtig gut? \n\nWarum sind internationale Begegnungen wertvoll?\nWas kannst du persönlich daraus mitnehmen?\nWelche Zutaten machen ein Projekt gut und erfolgreich?\nEin Beispielprogramm zeigt dir\, wie Abläufe aussehen können – realistisch und machbar.\n\nModul 2 am 9. März: Welche Fördermöglichkeiten gibt es? \n\nÜberblick über die relevanten Förderprogramme (Erasmus+\, DFJW\, KJFP u.v.m.)\nPraktische Tipps\, wie Anträge einfacher werden\nKontakte zu Beratungsstellen\, die dich unterstützen\, wenn du ein eigenes Projekt starten willst\n\n[/vc_column_text][vc_column_text css=““]Die Workshops werden in Kooperation mit dem zeTT Jugendinfo durchgeführt. \nBei Fragen wende dich bitte an Mona: 0163/ 8726829 oder mona.moentmann@jugendring.de[/vc_column_text][/vc_column][/vc_row][vc_row][vc_column][vc_column_text css=““] \n\n[/vc_column_text][/vc_column][/vc_row][vc_row][vc_column][/vc_column][/vc_row]
URL:https://jugendring-duesseldorf.de/termin/horizonte-erweitern-2/
ATTACH;FMTTYPE=image/png:https://jugendring-duesseldorf.de/wp-content/uploads/2025/11/Horizonte-erweitern.png
END:VEVENT
BEGIN:VEVENT
DTSTART;TZID=Europe/Berlin:20260311T190000
DTEND;TZID=Europe/Berlin:20260311T220000
DTSTAMP:20260424T160327
CREATED:20260122T160107Z
LAST-MODIFIED:20260219T155900Z
UID:15892-1773255600-1773266400@jugendring-duesseldorf.de
SUMMARY:Feministische Parolen weitertragen
DESCRIPTION:[vc_row][vc_column][vc_column_text css=““] \nWir laden junge FLINTA* Personen zu einem gemütlichen\, kreativen Café-Abend ein. In entspannter Atmosphäre wollen wir kreativ werden\, uns austauschen und weitertragen\, was der 8. März angestoßen hat. \nDu kannst deine Motive auf T-Shirts und Beuteln Sticken oder Drucken und Zines basteln. Bringt am besten eigene T-Shirts\, Beutel oder andere Textilien mit. Für Kurzentschlossene gibt es auch eine kleine Auswahl an Second-Hand-Teilen vor Ort. \nEgal\, ob ihr schon eine konkrete Idee habt oder noch Inspiration sucht: Kommt vorbei! Wir bringen Motive und Parolen mit\, inspiriert von der Demo zum feministischen Kampftag am 8. März. \nEs gibt günstige Getränke und kostenlose Snacks. Eigenes Essen darf gerne mitgebracht und vor Ort gegessen werden. \n  \nBei Fragen wende dich an Mona (mona.moentmann@jugendring-duesseldorf.de\, +49163 87 26 829)[/vc_column_text][/vc_column][/vc_row]
URL:https://jugendring-duesseldorf.de/termin/feministische-parolen-weitertragen/
LOCATION:Haus der Jugend\, Lacombletstr. 10\, Düsseldorf\, NRW\, 40239\, Deutschland
ATTACH;FMTTYPE=image/png:https://jugendring-duesseldorf.de/wp-content/uploads/2026/01/Bewerbungsbild-Jugendring-Cafe-Maerz-scaled.png
ORGANIZER;CN="Jugendring D%C3%BCsseldorf":MAILTO:info@jugendring-duesseldorf.de
END:VEVENT
BEGIN:VEVENT
DTSTART;TZID=Europe/Berlin:20260316T180000
DTEND;TZID=Europe/Berlin:20260316T210000
DTSTAMP:20260424T160327
CREATED:20251211T143236Z
LAST-MODIFIED:20251215T105720Z
UID:15650-1773684000-1773694800@jugendring-duesseldorf.de
SUMMARY:Awareness - Basisworkshop
DESCRIPTION:[vc_row][vc_column][vc_column_text css=““]‚To be aware‘ lässt sich hier übersetzen als: sich bewusst sein\, sich informieren\, für gewisse Problematiken sensibilisiert sein. Awareness ist ein Konzept\, dass sich gegen jede Form von Grenzverletzung\, Gewalt und Diskriminierung in Handlung und Haltung stellt. Diese sollen nicht toleriert werden. Stattdessen sollen Veränderungs- und Handlungsmöglichkeiten aufgezeigt werden. Denn: Wir wollen\, dass es allen Menschen möglichst gut geht! \nDer Workshop beschäftigt sich mit den Fragen: Was haben Diskriminierungsstrukturen mit dem Thema zu tun? Was bedeutet es Awareness-Arbeit im Verband\, in Gruppenstunden oder auf Freizeiten zu machen? Was für Probleme treten dabei oft auf? Wie lässt sich mit Grenzüberschreitungen und Übergriffen konstruktiv umgehen? Was braucht es für ein Awareness-Konzept?[/vc_column_text][vc_column_text css=““]Datum: Mo. 16.03.26\, 18:00-21:00 Uhr\nOrt: Haus der Jugend\, Lacombletstr. 10\, 40239 Düsseldorf \nMelde dich jetzt an! \n\n[/vc_column_text][/vc_column][/vc_row]
URL:https://jugendring-duesseldorf.de/termin/awareness-basis/
LOCATION:Jugendring Düsseldorf – Haus der Jugend\, Lacombletstraße 10\, Düsseldorf\, 40239\, Deutschland
ATTACH;FMTTYPE=image/jpeg:https://jugendring-duesseldorf.de/wp-content/uploads/2025/12/Verbandszeug_Awareness.jpg
ORGANIZER;CN="Jugendring D%C3%BCsseldorf":MAILTO:info@jugendring-duesseldorf.de
END:VEVENT
BEGIN:VEVENT
DTSTART;TZID=Europe/Berlin:20260321T100000
DTEND;TZID=Europe/Berlin:20260321T170000
DTSTAMP:20260424T160327
CREATED:20251202T071844Z
LAST-MODIFIED:20260318T090234Z
UID:15648-1774087200-1774112400@jugendring-duesseldorf.de
SUMMARY:Jugend trifft Politik Spezial
DESCRIPTION:2026 feiern wir 80 Jahre Jugendring Düsseldorf – 80 Jahre starkes\, demokratisches Jugendengagement in unserer Stadt. Den Auftakt bildet die Jubiläumsausgabe von „Jugend trifft Politik“! \nAm Samstag\, 21. März 2026\, wird das Haus der Jugend zum Begegnungsort für junge Menschen\, Jugendleiter*innen\, Jugendverbände\, Stadtpolitik und Verwaltung. Auch Oberbürgermeister Dr. Stephan Keller wird vor Ort sein. \nZiel des Tages im Haus der Jugend: Jugendverbandsarbeit sichtbar machen und junge Engagierte in den direkten Austausch mit Stadtpolitik und Verwaltung bringen. Nutzt die Bühne\, um eure Verbandsarbeit zu präsentieren und gebt ihr eine starke Stimme.\nTeilt eure Perspektive und entwickelt mit anderen Jugendverbandler*innen und städtischen Entscheidungsträger*innen Ideen für ein lebenswertes und jugendgerechtes Düsseldorf. \nBewegt etwas in Düsseldorf – für euch\, für euren Verband und für das Leben in unserer Stadt. \nAblauf des Tages:  \n10:00 Uhr: Beginn und Begrüßung \n11:00 Uhr: Vorstellen der Verbände / Markt der Möglichkeiten \n12:30 Uhr: Mittagspause mit kostenfreiem Essen & Getränken \n13:30 Uhr: Gesprächsrunden 1 & 2 mit folgenden Themen: \n\nMobilität und Verkehr – Wie kann sichere\, nachhaltige und jugendgerechte Mobilität in Düsseldorf gestaltet werden?\nWohnen – Welche Herausforderungen erleben junge Menschen auf dem Wohnungsmarkt und wie können Lösungsansätze für bezahlbaren und passenden Wohnraum entwickelt werden?\nAufenthaltsräume für junge Menschen – Wie müssen öffentliche Räume gestaltet sein\, damit sich junge Menschen willkommen fühlen und diese aktiv nutzen können?\nJugendarmut – Wie können Jugendarmut wirksam bekämpft und die Teilhabechancen für junge Menschen verbessert werden?\nSicherheit im öffentlichen Raum – Wie kann ein verantwortungsvoller\, sozialer und präventiver Umgang mit Drogenkonsum und Obdachlosigkeit in Düsseldorf aussehen?\nRassismuserfahrungen im öffentlichen Raum – Wie erleben junge Menschen Rassismus im öffentlichen Raum und welche konkreten Schritte können Politik und Verwaltung unternehmen\, um Diskriminierung abzubauen und Teilhabe zu stärken?\nUmwelt – Wie können Klimaschutz und konkrete Maßnahmen zur Klimaanpassung in Düsseldorf sozial und jugendgerecht sowie zukunftsfähig gestaltet werden?\n\n15 Uhr: Gesprächsrunde 2 \n16 Uhr: Abschluss \n17 Uhr: Ende der Veranstaltung \nWichtige Hinweise zur Anmeldung:\nÜber das Formular unten meldest du deine Teilnahme bei „Jugend trifft Politik“ an. Wenn sich euer Verband im Rahmen des Markts der Verbände präsentieren will\, meldet euren Stand bitte gesondert an. Die Anmeldung für Stände/Beiträge der Verbände findet ihr hier.
URL:https://jugendring-duesseldorf.de/termin/jtp26/
LOCATION:Haus der Jugend\, Lacombletstr. 10\, Düsseldorf\, NRW\, 40239\, Deutschland
ATTACH;FMTTYPE=image/jpeg:https://jugendring-duesseldorf.de/wp-content/uploads/2025/11/Jugend-trifft-Politik-2026-Banner-1800-x-1000-px-2500-x-1000-px.jpg
ORGANIZER;CN="Jugendring D%C3%BCsseldorf":MAILTO:info@jugendring-duesseldorf.de
END:VEVENT
BEGIN:VEVENT
DTSTART;TZID=Europe/Berlin:20260324T083000
DTEND;TZID=Europe/Berlin:20260324T133000
DTSTAMP:20260424T160327
CREATED:20260121T102545Z
LAST-MODIFIED:20260313T071017Z
UID:15872-1774341000-1774359000@jugendring-duesseldorf.de
SUMMARY:Auf postkolonialer Spurensuche in Düsseldorf - Wie Geschichte bis heute wirkt und was das mit Rassismus zu tun hat
DESCRIPTION:[vc_row][vc_column][vc_column_text css=““]Komm mit uns auf Spurensuche in Düsseldorf! Entdecke bisher kaum bekannte Geschichten der Stadt und erfahre\, wie sich koloniale Strukturen in Form von Rassismus\, Ausgrenzung und Machtverhältnissen bis heute in unserem Alltag auswirken. Wie lässt sich daran etwas ändern? Wie kann Protest aussehen? Und wie können wir als Stadtgesellschaft solidarischer werden? \nDie Teilnehmenden begeben sich in diesem partizipativen Workshop auf postkoloniale Spurensuche in Düsseldorf und ihrer Lebenswelt: Sie erhalten Einblicke in bislang kaum erzählte Stadtgeschichte(n) und erfahren\, wie koloniale Strukturen in Form von Rassismus in unserem Alltag fortwirken. Ziel ist es\, koloniale Geschichte nicht als fernes Vergangenheitsthema wahrzunehmen\, sondern ihre Verknüpfung mit heutigen gesellschaftlichen Verhältnissen zu erkennen und kritisch zu hinterfragen.  \nDafür vermittelt der Workshop grundlegendes Wissen zu Kolonialismus als Herrschafts- und Ausbeutungssystem sowie zu Rassismus als gesellschaftlichem Machtverhältnis und bezieht Schwarze Perspektiven auf Rassismuserfahrungen ein.  \nEin besonderer Fokus liegt auf der Schaffung eines geschützten Raums für Austausch\, diskursive Auseinandersetzung und Empowerment. Die Teilnehmenden können eigene Erfahrungswelten einbringen\, werden für Rassismuskritik sensibilisiert und sammeln alltagsnahe Handlungsmöglichkeiten für ein solidarisches Miteinander.  \nAn diesem Tag findet der Workshop in Kooperation mit dem Kommunalen Integrationszentrum Düsseldorf im Rahmen der internationalen Wochen gegen Rassismus statt. Schulklassen/Gruppen können sich für die Buchung bei Katharina Schunck (Kontaktdaten unten) anmelden. Der Workshop kann auch sehr gerne unabhängig von diesem Termin im Lernort Demokratie gebucht werden – bei Interesse freuen wir uns jederzeit über Anfragen zur Terminvereinbarung! \nKontakt: \nKatharina Schunck\nkatharina.schunck@jugendring-duesseldorf.de\n0211 975377-27\n0176 20296864[/vc_column_text][/vc_column][/vc_row]
URL:https://jugendring-duesseldorf.de/termin/auf-postkolonialer-spurensuche-in-duesseldorf-wie-geschichte-bis-heute-wirkt-und-was-das-mit-rassismus-zu-tun-hat/
LOCATION:Jugendring Düsseldorf – Haus der Jugend\, Lacombletstraße 10\, Düsseldorf\, 40239\, Deutschland
ATTACH;FMTTYPE=image/jpeg:https://jugendring-duesseldorf.de/wp-content/uploads/2026/01/20260128_160659.jpg
ORGANIZER;CN="Jugendring D%C3%BCsseldorf":MAILTO:info@jugendring-duesseldorf.de
END:VEVENT
BEGIN:VEVENT
DTSTART;TZID=Europe/Berlin:20260326T083000
DTEND;TZID=Europe/Berlin:20260326T133000
DTSTAMP:20260424T160327
CREATED:20260121T102635Z
LAST-MODIFIED:20260313T071003Z
UID:15874-1774513800-1774531800@jugendring-duesseldorf.de
SUMMARY:Auf postkolonialer Spurensuche in Düsseldorf - Wie Geschichte bis heute wirkt und was das mit Rassismus zu tun hat
DESCRIPTION:[vc_row][vc_column][vc_column_text css=““]Komm mit uns auf Spurensuche in Düsseldorf! Entdecke bisher kaum bekannte Geschichten der Stadt und erfahre\, wie sich koloniale Strukturen in Form von Rassismus\, Ausgrenzung und Machtverhältnissen bis heute in unserem Alltag auswirken. Wie lässt sich daran etwas ändern? Wie kann Protest aussehen? Und wie können wir als Stadtgesellschaft solidarischer werden? \nDie Teilnehmenden begeben sich in diesem partizipativen Workshop auf postkoloniale Spurensuche in Düsseldorf und ihrer Lebenswelt: Sie erhalten Einblicke in bislang kaum erzählte Stadtgeschichte(n) und erfahren\, wie koloniale Strukturen in Form von Rassismus in unserem Alltag fortwirken. Ziel ist es\, koloniale Geschichte nicht als fernes Vergangenheitsthema wahrzunehmen\, sondern ihre Verknüpfung mit heutigen gesellschaftlichen Verhältnissen zu erkennen und kritisch zu hinterfragen.  \nDafür vermittelt der Workshop grundlegendes Wissen zu Kolonialismus als Herrschafts- und Ausbeutungssystem sowie zu Rassismus als gesellschaftlichem Machtverhältnis und bezieht Schwarze Perspektiven auf Rassismuserfahrungen ein.  \nEin besonderer Fokus liegt auf der Schaffung eines geschützten Raums für Austausch\, diskursive Auseinandersetzung und Empowerment. Die Teilnehmenden können eigene Erfahrungswelten einbringen\, werden für Rassismuskritik sensibilisiert und sammeln alltagsnahe Handlungsmöglichkeiten für ein solidarisches Miteinander.  \nAn diesem Tag findet der Workshop in Kooperation mit dem Kommunalen Integrationszentrum Düsseldorf im Rahmen der internationalen Wochen gegen Rassismus statt. Schulklassen/Gruppen können sich für die Buchung bei Katharina Schunck (Kontaktdaten unten) anmelden. Der Workshop kann auch sehr gerne unabhängig von diesem Termin im Lernort Demokratie gebucht werden – bei Interesse freuen wir uns jederzeit über Anfragen zur Terminvereinbarung! \nKontakt: \nKatharina Schunck\nkatharina.schunck@jugendring-duesseldorf.de\n0211 975377-27\n0176 20296864[/vc_column_text][/vc_column][/vc_row]
URL:https://jugendring-duesseldorf.de/termin/auf-postkolonialer-spurensuche-in-duesseldorf-wie-geschichte-bis-heute-wirkt-und-was-das-mit-rassismus-zu-tun-hat-2/
LOCATION:Jugendring Düsseldorf – Haus der Jugend\, Lacombletstraße 10\, Düsseldorf\, 40239\, Deutschland
ATTACH;FMTTYPE=image/jpeg:https://jugendring-duesseldorf.de/wp-content/uploads/2026/01/20260128_160659.jpg
ORGANIZER;CN="Jugendring D%C3%BCsseldorf":MAILTO:info@jugendring-duesseldorf.de
END:VEVENT
BEGIN:VEVENT
DTSTART;TZID=Europe/Berlin:20260326T190000
DTEND;TZID=Europe/Berlin:20260326T220000
DTSTAMP:20260424T160327
CREATED:20260309T073547Z
LAST-MODIFIED:20260309T073547Z
UID:16238-1774551600-1774562400@jugendring-duesseldorf.de
SUMMARY:Vollversammlung 2026-01
DESCRIPTION:Wir laden euch herzlich ein zur ersten Vollversammlung 2026. Alle Infos solltet ihr per Mail erhalten haben.
URL:https://jugendring-duesseldorf.de/termin/vollversammlung-2026-01/
LOCATION:Haus der Jugend\, Lacombletstr. 10\, Düsseldorf\, NRW\, 40239\, Deutschland
ATTACH;FMTTYPE=image/png:https://jugendring-duesseldorf.de/wp-content/uploads/2026/03/vollversammlung.png
ORGANIZER;CN="Jugendring D%C3%BCsseldorf":MAILTO:info@jugendring-duesseldorf.de
END:VEVENT
BEGIN:VEVENT
DTSTART;TZID=Europe/Berlin:20260328T080000
DTEND;TZID=Europe/Berlin:20260412T170000
DTSTAMP:20260424T160327
CREATED:20250409T093913Z
LAST-MODIFIED:20260326T100721Z
UID:13986-1774684800-1776013200@jugendring-duesseldorf.de
SUMMARY:Ferien-Notfall-Hotline Osterferien
DESCRIPTION:[vc_row][vc_column][vc_column_text css=““]In den Osterferien bieten wir wieder unsere Hotline rund um die Fragen des Kinderschutzes und Jugendverbände an. Die Mitarbeiter*innen des Jugendrings stehen den Jugendverbänden und Jugendgruppenleitungen als Ansprechpartner*innen für die Ferienfreizeiten zur Verfügung. \nIhr habt ein komisches Bauchgefühl bei einem Kind/Jugendlichen oder Mitleitenden? \nEs kommt zu Situationen\, die einzelne Personen oder die gesamte Gruppe belasten? \nIhr braucht einen Tipp\, die Möglichkeit zum Austausch oder Beratung? \nWir helfen gerne im Rahmen unserer Möglichkeiten! \nIhr erreicht uns täglich unter der Nummer: 0176 63396383. \nSolltet ihr uns nicht direkt erreichen\, hinterlasst uns gerne eine Nachricht oder schickt eine SMS – wir rufen euch schnellstmöglich zurück. \n[/vc_column_text][/vc_column][/vc_row]
URL:https://jugendring-duesseldorf.de/termin/ferien-notfall-hotline-osterferien/
ATTACH;FMTTYPE=image/jpeg:https://jugendring-duesseldorf.de/wp-content/uploads/2025/04/Kopie-von-Notfallhandy_Ostern25_Homepage.jpg
END:VEVENT
END:VCALENDAR