BEGIN:VCALENDAR
VERSION:2.0
PRODID:-//Jugendring Düsseldorf - ECPv6.15.20//NONSGML v1.0//EN
CALSCALE:GREGORIAN
METHOD:PUBLISH
X-WR-CALNAME:Jugendring Düsseldorf
X-ORIGINAL-URL:https://jugendring-duesseldorf.de
X-WR-CALDESC:Veranstaltungen im Jugendring Düsseldorf
REFRESH-INTERVAL;VALUE=DURATION:PT1H
X-Robots-Tag:noindex
X-PUBLISHED-TTL:PT1H
BEGIN:VTIMEZONE
TZID:Europe/Berlin
BEGIN:DAYLIGHT
TZOFFSETFROM:+0100
TZOFFSETTO:+0200
TZNAME:CEST
DTSTART:20250330T010000
END:DAYLIGHT
BEGIN:STANDARD
TZOFFSETFROM:+0200
TZOFFSETTO:+0100
TZNAME:CET
DTSTART:20251026T010000
END:STANDARD
BEGIN:DAYLIGHT
TZOFFSETFROM:+0100
TZOFFSETTO:+0200
TZNAME:CEST
DTSTART:20260329T010000
END:DAYLIGHT
BEGIN:STANDARD
TZOFFSETFROM:+0200
TZOFFSETTO:+0100
TZNAME:CET
DTSTART:20261025T010000
END:STANDARD
BEGIN:DAYLIGHT
TZOFFSETFROM:+0100
TZOFFSETTO:+0200
TZNAME:CEST
DTSTART:20270328T010000
END:DAYLIGHT
BEGIN:STANDARD
TZOFFSETFROM:+0200
TZOFFSETTO:+0100
TZNAME:CET
DTSTART:20271031T010000
END:STANDARD
END:VTIMEZONE
BEGIN:VEVENT
DTSTART;TZID=Europe/Berlin:20260426T120000
DTEND;TZID=Europe/Berlin:20260426T150000
DTSTAMP:20260424T180006
CREATED:20260410T135155Z
LAST-MODIFIED:20260410T135306Z
UID:16451-1777204800-1777215600@jugendring-duesseldorf.de
SUMMARY:Tiktok-Jugendredaktion - Online Workshop
DESCRIPTION:[vc_row][vc_column][vc_column_text css=““] \nMöchtest du spannende TikTok-Videos zu aktuellen Themen erstellen\, aber irgendetwas fehlt dir noch?\nDann bist du bei uns genau richtig! \n🎬 Die Jugend-TikTok-Redaktion lädt zum ersten Online-Workshop ein! \nWas dich erwartet:\n✨ ein klar strukturierter Plan zur Videoerstellung\n✨ Lifehacks\, Hooks\, Themen\, Ideen und praktische Tipps\n✨ gemeinsam Contentplanung für den nächsten Drehtag\n✨ offene Gespräche\, Austausch und Antworten auf deine Fragen \n👩‍💻 Unsere Expertin:\nMariya Mokromenko – Spezialistin für Kommunikationsdesign\, Social Media und kreative Jugendkommunikation.\nSie teilt ihre Erfahrungen\, unterstützt bei der Ideenfindung\, beim Schreiben kurzer Skripte und begleitet euch während der TikTok-Aufnahmen. \n📅 26.04.2026\n⏰ 12:00–15:00\n📍 Online\, Anmeldung per Mail an verena.hohn@jugendring-duesseldorf.de \n👥 Für wen?\nJugendliche ab 14 Jahren. \nVerbringe den Tag nicht mit Scrollen – sondern erstelle deine eigenen Videos mit Potenzial für Millionen von Views 😉🎥✨[/vc_column_text][/vc_column][/vc_row]
URL:https://jugendring-duesseldorf.de/termin/tiktok-jugendredaktion-online-workshop/
LOCATION:Digital / online – Link wird nach Anmeldung zugeschickt
ATTACH;FMTTYPE=image/jpeg:https://jugendring-duesseldorf.de/wp-content/uploads/2026/02/Tiktok-Event-2026-e1775828662786.jpg
ORGANIZER;CN="Jugendring D%C3%BCsseldorf":MAILTO:info@jugendring-duesseldorf.de
END:VEVENT
BEGIN:VEVENT
DTSTART;TZID=Europe/Berlin:20260428T180000
DTEND;TZID=Europe/Berlin:20260428T210000
DTSTAMP:20260424T180006
CREATED:20260330T125011Z
LAST-MODIFIED:20260330T130506Z
UID:16409-1777399200-1777410000@jugendring-duesseldorf.de
SUMMARY:Frische\, simple Küche
DESCRIPTION:[vc_row][vc_column][vc_column_text css=““]Schnell\, lecker\, unkompliziert!\nIn Gruppenstunden\, bei Aktionstagen und generell im Ehrenamt bleibt oft wenig Zeit fürs Kochen – gutes Essen muss nicht aufwendig sein und schnelles Kochen und Frische schließen sich nicht aus.\nDeshalb zeigen wir in diesem Workshop\, wie einfache Gerichte im Handumdrehen gelingen. Dazu werden wir gemeinsam kochen und essen\, in den Austausch kommen und neue Rezeptideen für die Praxis mitnehmen. \nAnmeldung bis zum 20. April online unter www.jugend-ehrenamt.evdus.de[/vc_column_text][/vc_column][/vc_row]
URL:https://jugendring-duesseldorf.de/termin/frische-simple-kueche/
LOCATION:ejuzo – Ev. Jugendzentrum in Oberbilk\, Ellerstraße 215\, Düsseldorf\, 40227\, Deutschland
ATTACH;FMTTYPE=image/jpeg:https://jugendring-duesseldorf.de/wp-content/uploads/2026/03/2026_04_28_Kochen-scaled-1-scaled-e1774874950928.jpg
ORGANIZER;CN="evangelische jugend d%C3%BCsseldorf":MAILTO:sarah.ludwig@evdus.de
END:VEVENT
END:VCALENDAR